BEGIN:VCALENDAR
VERSION:2.0
PRODID:-//Erciyes Teknopark - ECPv6.4.0.1//NONSGML v1.0//EN
CALSCALE:GREGORIAN
METHOD:PUBLISH
X-ORIGINAL-URL:https://erciyesteknopark.com
X-WR-CALDESC:Erciyes Teknopark için etkinlikler
REFRESH-INTERVAL;VALUE=DURATION:PT1H
X-Robots-Tag:noindex
X-PUBLISHED-TTL:PT1H
BEGIN:VTIMEZONE
TZID:Europe/Istanbul
BEGIN:STANDARD
TZOFFSETFROM:+0300
TZOFFSETTO:+0300
TZNAME:+03
DTSTART:20250101T000000
END:STANDARD
END:VTIMEZONE
BEGIN:VEVENT
DTSTART;TZID=Europe/Istanbul:20250508T180000
DTEND;TZID=Europe/Istanbul:20250508T213000
DTSTAMP:20260421T153819
CREATED:20250428T122742Z
LAST-MODIFIED:20250428T123416Z
UID:14907-1746727200-1746739800@erciyesteknopark.com
SUMMARY:Sinetekno Film Akşamı'na Davetlisiniz
DESCRIPTION:Erciyes Teknopark olarak\, girişimcilik ekosistemine ilham vermeye\, kaldığımız yerden devam ediyoruz! Büyük ilgi gören SineTekno etkinliğimizin üçüncüsüyle yeniden karşınızdayız. Teknoloji\, yenilikçilik ve girişimcilik ruhunu beyaz perdeye taşıyan ilham verici filmlerle dolu bir akşam sizleri bekliyor. Etkinliğimiz herkesin katılımına açıktır. Girişimcilik yolculuğunuzda size ışık tutacak bu etkinliği kaçırmayın! \nTarih: 8 Mayıs Perşembe \nSaat: 18.00 \nYer: Erciyes Teknopark Tekno-5 Binası Konferans Salonu \nKatılım ücretsizdir ancak katılım için kayıt zorunlu olup\, kontenjanımız sınırlıdır. Yerinizi ayırtmayı unutmayın! \nKayıt ve Bilgi için: \nhttp://team.seraincubation.com/basvurular/yeni?form_id=9646ef795aedc9238f2596c862086e78 \n 
URL:https://erciyesteknopark.com/etkinlik/%f0%9f%8e%ac-sinetekno-film-aksamina-davetlisiniz-%f0%9f%8e%ac-3/
ATTACH;FMTTYPE=image/jpeg:https://erciyesteknopark.com/wp-content/uploads/2025/04/SineTekno-3-afis-scaled.jpg
END:VEVENT
END:VCALENDAR