BEGIN:VCALENDAR
VERSION:2.0
PRODID:-//Erciyes Teknopark - ECPv6.4.0.1//NONSGML v1.0//EN
CALSCALE:GREGORIAN
METHOD:PUBLISH
X-ORIGINAL-URL:https://erciyesteknopark.com
X-WR-CALDESC:Erciyes Teknopark için etkinlikler
REFRESH-INTERVAL;VALUE=DURATION:PT1H
X-Robots-Tag:noindex
X-PUBLISHED-TTL:PT1H
BEGIN:VTIMEZONE
TZID:Europe/Istanbul
BEGIN:STANDARD
TZOFFSETFROM:+0300
TZOFFSETTO:+0300
TZNAME:+03
DTSTART:20250101T000000
END:STANDARD
END:VTIMEZONE
BEGIN:VEVENT
DTSTART;TZID=Europe/Istanbul:20250625T150000
DTEND;TZID=Europe/Istanbul:20250625T160000
DTSTAMP:20260417T224146
CREATED:20250623T130553Z
LAST-MODIFIED:20250623T130553Z
UID:15189-1750863600-1750867200@erciyesteknopark.com
SUMMARY:41.ERBAN Invest Day
DESCRIPTION:Erciyes Teknopark ERBAN Melek Yatırım Ağı bünyesinde Kültepe Yatırım işbirliği ile 41. ERBAN Invest Day etkinliği gerçekleştirilecektir. \nYatırım arayışında bulunan iki başarılı girişimci\, projelerini ERBAN Melek Yatırım Ağı kapsamında yer alan yatırımcılara sunacaktır. \nBu özel sunum etkinliği\, girişimciler ile potansiyel yatırımcılar arasında doğrudan iletişim kurulmasını sağlayarak iş birliği fırsatlarını artırmayı hedeflemektedir. \nSunumda\, girişimciler iş modellerini\, büyüme stratejilerini ve yatırım ihtiyaçlarını detaylı şekilde aktaracak; yatırımcılar ise projelerin potansiyelini yakından değerlendirme imkânı bulacaktır. \n41.ERBAN Invest Day \nTarih: 25.06.2025 \nSaat: 15.00-16.00 \nEtkinlik zoom üzerinden gerçekleştirilecektir. \n***Etkinliğimiz ERBAN Melek Yatırım ağına üye yatırımcılara açıktır. \nİletişim: Erciyes Teknoloji Transfer Ofisi\, Nuriye YETGİN \nnuriye.yetgin@erciyesteknopark.com \n 
URL:https://erciyesteknopark.com/etkinlik/41-erban-invest-day/
ATTACH;FMTTYPE=image/jpeg:https://erciyesteknopark.com/wp-content/uploads/2025/06/41.-INVEST-DAY.jpg
END:VEVENT
END:VCALENDAR