BEGIN:VCALENDAR
VERSION:2.0
PRODID:-//Erciyes Teknopark - ECPv6.4.0.1//NONSGML v1.0//EN
CALSCALE:GREGORIAN
METHOD:PUBLISH
X-WR-CALNAME:Erciyes Teknopark
X-ORIGINAL-URL:https://erciyesteknopark.com
X-WR-CALDESC:Erciyes Teknopark için etkinlikler
REFRESH-INTERVAL;VALUE=DURATION:PT1H
X-Robots-Tag:noindex
X-PUBLISHED-TTL:PT1H
BEGIN:VTIMEZONE
TZID:Europe/Istanbul
BEGIN:STANDARD
TZOFFSETFROM:+0300
TZOFFSETTO:+0300
TZNAME:+03
DTSTART:20260101T000000
END:STANDARD
END:VTIMEZONE
BEGIN:VEVENT
DTSTART;TZID=Europe/Istanbul:20260106T080000
DTEND;TZID=Europe/Istanbul:20260106T170000
DTSTAMP:20260420T175737
CREATED:20260106T093345Z
LAST-MODIFIED:20260106T093345Z
UID:15853-1767686400-1767718800@erciyesteknopark.com
SUMMARY:Ufuk Avrupa Programı Genel Bilgilendirme Eğitimi
DESCRIPTION:Erciyes Üniversitesi ve Erciyes Teknopark iş birliğiyle\, 29 Ocak 2026 tarihinde Kayseri’de düzenlenecek Ufuk Avrupa Programı Genel Bilgilendirme Eğitimi\, araştırma ve inovasyon alanında faaliyet gösteren tüm paydaşlara yönelik olarak gerçekleştirilecektir. \nAvrupa Birliği ve Türkiye Cumhuriyeti tarafından ortak finanse edilen; T.C. Sanayi ve Teknoloji Bakanlığı tarafından yürütülen\, nihai yararlanıcısı TÜBİTAK olan ve Rekabetçi Sektörler Programı kapsamında desteklenen “Ufuk Avrupa’da Türkiye” Teknik Destek Projesi çerçevesinde organize edilen etkinlikte\, katılımcıların Ufuk Avrupa Programı’na daha bilinçli ve hazırlıklı şekilde dâhil olmaları hedeflenmektedir. \nEğitim kapsamında Ufuk Avrupa Programı’na ilişkin temel bilgiler aktarılacak; başvuru\, mali süreçler ve proje yürütme pratiklerine dair güncel ve uygulamaya dönük içerikler paylaşılacaktır. Etkinlik\, programa başvuru potansiyeli bulunan kurum ve kişiler için temel düzeyde bir rehberlik sunarken\, daha önce başvuru deneyimi olan katılımcılar için ise programdaki son gelişmeler ışığında yol haritası oluşturma imkânı sağlayacaktır. \nAyrıca etkinlik\, katılımcılara TÜBİTAK Ulusal İrtibat Noktaları ile birebir etkileşim fırsatı sunmaktadır. \nEtkinlik Bilgileri:\nTarih: 29 Ocak 2026\nYer: Kayseri\nEğitim Dili: İngilizce (çeviri hizmeti bulunmamaktadır) \nÖn Kayıt:\nhttps://forms.gle/FmK7kaAL2JDwfg6X6 \nÖn kayıt yapan katılımcıların etkinliğe katılabilmesi için Proje Ekibi tarafından e-posta yoluyla katılım onayı verilmesi gerekmektedir. Etkinlik yeri ve lojistik bilgiler yalnızca onaylanan katılımcılarla paylaşılacaktır.\nEtkinlik ücretsiz olup\, ulaşım\, konaklama ve diğer lojistik giderler katılımcıların sorumluluğundadır. Katılımcı sayısı sınırlı olup\, her kurumdan yalnızca bir temsilcinin kaydı onaylanacaktır. \nEtkinliğe ilişkin sorularınız için:\nhorizoneurope.events@sistemglobal.com.tr
URL:https://erciyesteknopark.com/etkinlik/ufuk-avrupa-programi-genel-bilgilendirme-egitimi/
END:VEVENT
END:VCALENDAR