BEGIN:VCALENDAR
VERSION:2.0
PRODID:-//Erciyes Teknopark - ECPv6.4.0.1//NONSGML v1.0//EN
CALSCALE:GREGORIAN
METHOD:PUBLISH
X-WR-CALNAME:Erciyes Teknopark
X-ORIGINAL-URL:https://erciyesteknopark.com
X-WR-CALDESC:Erciyes Teknopark için etkinlikler
REFRESH-INTERVAL;VALUE=DURATION:PT1H
X-Robots-Tag:noindex
X-PUBLISHED-TTL:PT1H
BEGIN:VTIMEZONE
TZID:Europe/Istanbul
BEGIN:STANDARD
TZOFFSETFROM:+0300
TZOFFSETTO:+0300
TZNAME:+03
DTSTART:20250101T000000
END:STANDARD
END:VTIMEZONE
BEGIN:VEVENT
DTSTART;TZID=Europe/Istanbul:20250904T080000
DTEND;TZID=Europe/Istanbul:20250906T170000
DTSTAMP:20260420T114507
CREATED:20250815T095011Z
LAST-MODIFIED:20250815T095011Z
UID:15447-1756972800-1757178000@erciyesteknopark.com
SUMMARY:KAPADOKYA IP'25
DESCRIPTION:Erciyes Teknopark tarafından geleneksel olarak düzenlenen ve TÜRKPATENT işbirliğinde bu yıl 10.kez gerçekleştirilecek olan Kapadokya IP Günleri’25 kayıtları açılmıştır. \nÜniversiteler\, TTO’lar\, büyük sanayi kuruluşlarının Ar-Ge merkezleri ve patent ofislerinden patent profesyonellerinin katılım gösterdiği etkinliğe sizleri de bekleriz. \nKayıt Son Tarihi: 31.08.2025 \nDetaylı bilgi ve kayıt için: https://kapadokyaip.erciyesteknopark.com/ \n*Avrupa Patent Ofisi (EPO) tarafından tanınan ve destek kapsamına alınan etkinlik için TÜRKPATENT ve EPO nezdindeki PATLIB merkezlerinde çalışan “PATLIB temsilcilerinin” katılım ücretleri\, EPO tarafından desteklenebilmektedir. \n#KapadokyaIP #CappadociaIPDays #KapadokyaIPGünleri #FikriMülkiyet #IntellectualProperty
URL:https://erciyesteknopark.com/etkinlik/kapadokya-ip25/
ATTACH;FMTTYPE=image/jpeg:https://erciyesteknopark.com/wp-content/uploads/2025/08/KAPADOKYA-IP-2025-GORSEL.jpg
END:VEVENT
END:VCALENDAR