BEGIN:VCALENDAR
VERSION:2.0
PRODID:-//Erciyes Teknopark - ECPv6.4.0.1//NONSGML v1.0//EN
CALSCALE:GREGORIAN
METHOD:PUBLISH
X-ORIGINAL-URL:https://erciyesteknopark.com
X-WR-CALDESC:Erciyes Teknopark için etkinlikler
REFRESH-INTERVAL;VALUE=DURATION:PT1H
X-Robots-Tag:noindex
X-PUBLISHED-TTL:PT1H
BEGIN:VTIMEZONE
TZID:Europe/Istanbul
BEGIN:STANDARD
TZOFFSETFROM:+0300
TZOFFSETTO:+0300
TZNAME:+03
DTSTART:20220101T000000
END:STANDARD
END:VTIMEZONE
BEGIN:VEVENT
DTSTART;VALUE=DATE:20220324
DTEND;VALUE=DATE:20220325
DTSTAMP:20260424T141118
CREATED:20220228T134710Z
LAST-MODIFIED:20220315T103826Z
UID:9099-1648080000-1648166399@erciyesteknopark.com
SUMMARY:Aeroex 2022 Kayseri
DESCRIPTION:Aeroex 2022 Kayseri’de 24 Mart’ta yapılması planlanan ve Programı Uluslararası Havacılık ve Uzay Teknolojileri alanında Kayseri ve bölgesinin geleneksel girişimcilik anlayışını ve yenilikçi teknoloji tabanlı sanayi dönüşümünü etkin bir şekilde kullanmayı amaçlamaktadır. Bu kapsamda; Bölgedeki yatırımcı ve sanayi kuruluşlarını havacılık sektörüne entegre etmeyi ve ulusal ve uluslararası firmalara Kayseri ve bölgesindeki sanayi potansiyelini tanıtmak hedeflenmiştir. \n  \nDaha fazla bilgi için https://aeroex.com.tr/
URL:https://erciyesteknopark.com/etkinlik/aeroex-2022-kayseri/
LOCATION:Erciyes Kongre ve Kültür Merkezi\, Köşk\, Talas Bulvarı No:65\, Melikgazi\, KAYSERİ\, 38280
ATTACH;FMTTYPE=image/jpeg:https://erciyesteknopark.com/wp-content/uploads/2022/02/aeroex-2022___banner.jpg
END:VEVENT
BEGIN:VEVENT
DTSTART;VALUE=DATE:20220330
DTEND;VALUE=DATE:20220331
DTSTAMP:20260424T141119
CREATED:20220330T055839Z
LAST-MODIFIED:20220330T060054Z
UID:9743-1648598400-1648684799@erciyesteknopark.com
SUMMARY:Akıllı Şehir 2 Buluşmaları
DESCRIPTION:
URL:https://erciyesteknopark.com/etkinlik/akilli-sehir-2-bulusmalari/
CATEGORIES:Teknoloji
ATTACH;FMTTYPE=image/jpeg:https://erciyesteknopark.com/wp-content/uploads/2022/03/dikey-scaled.jpg
END:VEVENT
END:VCALENDAR