BEGIN:VCALENDAR
VERSION:2.0
PRODID:-//Erciyes Teknopark - ECPv6.4.0.1//NONSGML v1.0//EN
CALSCALE:GREGORIAN
METHOD:PUBLISH
X-ORIGINAL-URL:https://erciyesteknopark.com
X-WR-CALDESC:Erciyes Teknopark için etkinlikler
REFRESH-INTERVAL;VALUE=DURATION:PT1H
X-Robots-Tag:noindex
X-PUBLISHED-TTL:PT1H
BEGIN:VTIMEZONE
TZID:Europe/Istanbul
BEGIN:STANDARD
TZOFFSETFROM:+0300
TZOFFSETTO:+0300
TZNAME:+03
DTSTART:20210101T000000
END:STANDARD
END:VTIMEZONE
BEGIN:VEVENT
DTSTART;TZID=Europe/Istanbul:20211221T143000
DTEND;TZID=Europe/Istanbul:20211221T180000
DTSTAMP:20260420T145453
CREATED:20211221T110017Z
LAST-MODIFIED:20220116T113919Z
UID:8823-1640097000-1640109600@erciyesteknopark.com
SUMMARY:ULUSLARARASI KAPADOKYA IP GÜNLERİ​ 2021
DESCRIPTION:Ülkemiz için gerek Teknoloji Transferi gerekse Fikri Mülkiyet Hakları kavramlarının yeni kavramlar olduğunu göz önünde bulundurarak geleneksel hale gelmeye başlayan Kapadokya IP Günleri etkinliği ile bu eksikliği giderme konusunda katkı sunabilmeyi hedefliyoruz. \nEtkinlik İçeriği \n\nFikri-Sınai haklar özelinde hazırlanan sözleşmelerin hukukçu gözüyle değerlendirilmesi. \nDoğru bilinen yanlışlar. Dikkat edilmesi gereken hususlar. Ortak patent başvurusu ve ticarileştirme (lisans/devir) sözleşmelerinin kapsamı ve içeriği nasıl olmalıdır\, hangi başlıklara yer verilmeli\, nelere dikkat edilmelidir? \nProf. Dr. N.Ayşe ODMAN BOZTOSUN / Akdeniz Üniversitesi \n\nTÜBİTAK çıktısı buluşların patent başvurularında izlenecek yol haritası. \nFikri ürün bildirim formları\, başvuru hak sahipliğinin onayı\, başvuru bildirimleri\, farklı üniversitelerin ortak patent başvuruları dahil yaşanan sorunlar\, bilinmesi ve dikkat edilmesi gereken hususlar. \nDr. Nevzat YAVUZ / TÜBİTAK ARDEB SOBAG Koordinatörü\, TÜBİTAK \n\nKapadokyaIP-2022 muhtemel konuları hususunda beyin fırtınası \n\n\n2022 yılında yüz yüze etkinlikte bir araya gelebilmeyi öngördüğümüz etkinlikte ele alınması istenilen muhtemel konu başlıklarının oluşturulması. Zaman\, mekan\, içerik açısından katılımcı/paydaş önerilerinin alınması. \nMesut AKTEKİN /  Erciyes Teknopark Fikri Haklar Koordinatörü
URL:https://erciyesteknopark.com/etkinlik/uluslararasi-kapadokya-ip-gunleri%e2%80%8b-2021/
CATEGORIES:Online Etkinlik
ATTACH;FMTTYPE=image/jpeg:https://erciyesteknopark.com/wp-content/uploads/2022/01/BANNER.jpg
END:VEVENT
END:VCALENDAR