BEGIN:VCALENDAR
VERSION:2.0
PRODID:-//Erciyes Teknopark - ECPv6.4.0.1//NONSGML v1.0//EN
CALSCALE:GREGORIAN
METHOD:PUBLISH
X-ORIGINAL-URL:https://erciyesteknopark.com
X-WR-CALDESC:Erciyes Teknopark için etkinlikler
REFRESH-INTERVAL;VALUE=DURATION:PT1H
X-Robots-Tag:noindex
X-PUBLISHED-TTL:PT1H
BEGIN:VTIMEZONE
TZID:Europe/Moscow
BEGIN:STANDARD
TZOFFSETFROM:+0300
TZOFFSETTO:+0300
TZNAME:MSK
DTSTART:20210101T000000
END:STANDARD
END:VTIMEZONE
BEGIN:VEVENT
DTSTART;VALUE=DATE:20210302
DTEND;VALUE=DATE:20210303
DTSTAMP:20260419T152041
CREATED:20210302T133752Z
LAST-MODIFIED:20211112T142527Z
UID:5869-1614643200-1614729599@erciyesteknopark.com
SUMMARY:BiGG Erciyes Programı Tanıtım Toplantısı
DESCRIPTION:Erciyes Teknopark olarak Marmara Üniversitesi ile iş birliği içerisinde girişimcilerin hedeflerine ulaşmasına destek olmak adına yürüttüğümüz BiGG Erciyes Programı tanıtım toplantısına davetlisiniz! \nTarih: 2 Mart 2021\, Salı\nSaat: 14.00-14.30\nPlatform: https://zoom.us/j/95460969108\,  Meeting ID: 954 6096 9108\nŞirketinizi 200.000 TL hibe ile kurmak için siz de www.biggerciyes1512.com’a başvurun
URL:https://erciyesteknopark.com/etkinlik/bigg-erciyes-programi-tanitim-toplantisi/
ATTACH;FMTTYPE=image/jpeg:https://erciyesteknopark.com/wp-content/uploads/2021/03/BiGG-Erciyes-Programi-Tanitim-Toplantisi.jpg
END:VEVENT
BEGIN:VEVENT
DTSTART;VALUE=DATE:20210303
DTEND;VALUE=DATE:20210304
DTSTAMP:20260419T152041
CREATED:20210303T133905Z
LAST-MODIFIED:20211112T142635Z
UID:5871-1614729600-1614815999@erciyesteknopark.com
SUMMARY:ERBAN Invest Day
DESCRIPTION:Kayseri’nin teknoloji ile buluşma zamanı ERBAN Invest Day  artık her ayın ilk çarşambası ! \nTarih: 3 Mart 2021\,  Çarşamba \nSaat: 15.00-16.00
URL:https://erciyesteknopark.com/etkinlik/erban-invest-day/
ATTACH;FMTTYPE=image/jpeg:https://erciyesteknopark.com/wp-content/uploads/2021/03/ERBAN-Invest-Day-scaled.jpg
END:VEVENT
BEGIN:VEVENT
DTSTART;VALUE=DATE:20210305
DTEND;VALUE=DATE:20210306
DTSTAMP:20260419T152041
CREATED:20210305T133957Z
LAST-MODIFIED:20211112T143314Z
UID:5873-1614902400-1614988799@erciyesteknopark.com
SUMMARY:TÜBİTAK 1001 Süreçlerinde Yapılan Yenilikler
DESCRIPTION:Değerli Araştırmacılar; \nErciyes Teknoloji Transfer Ofisi (ETTO) tarafından\, düzenlenecek olan “TÜBİTAK 1001 Süreçlerinde Yapılan Yenilikler Hakkında Çevrimiçi Bilgi Günü” etkinliğine davetlisiniz. Katılımcılara\, TÜBİTAK 1001 ve TÜBİTAK 1001 Deprem Araştırmaları çağrılarında dikkat edilmesi gereken hususlar ve yapılan değişiklikler hakkında bilgi verilecektir. \nTarih: 5 Mart 2021\, Cuma \nSaat: 10.30-12.00 \nKonuşmacı: Ali İhsan Yoğurt (Erciyes TTO) \nPlatform: Zoom \nAşağıdaki linkten kayıt yaptıran araştırmacılara toplantı katılım linki gönderilecektir. Etkinliğe katılımınızı bekler iyi çalışmalar dileriz. \nKayıt Linki : https://forms.gle/Rr74uFsJ2fWaYpHe8 \nErciyes Teknoloji Transfer Ofisi\nProje Destek Hizmetleri Birimi\n0352 207 66 66 – 68348\nprojedestek@erciyes.edu.tr
URL:https://erciyesteknopark.com/etkinlik/tubitak-1001-sureclerinde-yapilan-yenilikler/
ATTACH;FMTTYPE=image/jpeg:https://erciyesteknopark.com/wp-content/uploads/2021/03/TUBITAK-TEYDEB-1505-Universite-Is-Birligi-Destek-Programi-Bilgilendirme-Gunu.jpg
END:VEVENT
BEGIN:VEVENT
DTSTART;VALUE=DATE:20210323
DTEND;VALUE=DATE:20210324
DTSTAMP:20260419T152041
CREATED:20210323T134036Z
LAST-MODIFIED:20211112T134103Z
UID:5875-1616457600-1616543999@erciyesteknopark.com
SUMMARY:TÜBİTAK TEYDEB 1505 Üniversite İş Birliği Destek Programı Bilgilendirme Günü
DESCRIPTION:Erciyes Teknopark Erciyes Teknoloji Transfer Ofisi tarafından düzenlenecek olan TÜBİTAK TEYDEB 1505 Üniversite-Sanayi İş Birliği Destek Programı Bilgilendirme Günü etkinliğine davetlisiniz. \n  \nTarih: 23 Mart 2021\nSaat: 14.00\nKonuşmacı: Dr. Alp Eren Yurtseven | TÜBİTAK TEMEG Grup Koordinatörü V.\nPlatform: Zoom\nEtkinliğe kayıt için: http://www.kisa.link/OEdz
URL:https://erciyesteknopark.com/etkinlik/tubitak-teydeb-1505-universite-is-birligi-destek-programi-bilgilendirme-gunu/
END:VEVENT
BEGIN:VEVENT
DTSTART;VALUE=DATE:20210329
DTEND;VALUE=DATE:20210330
DTSTAMP:20260419T152041
CREATED:20210329T130638Z
LAST-MODIFIED:20211112T143311Z
UID:5854-1616976000-1617062399@erciyesteknopark.com
SUMMARY:BİGG ERCİYES TÜBİTAK 1512 TEKNOGİRİŞİM SERMAYESİ BAŞVURULARI BAŞLADI
DESCRIPTION:İş Fikrinizin Gerçeğe Dönüşmesi İçin Siz de www.biggerciyes1512.com‘a Başvurun ! \nBİGG Erciyes programı\, başvuruların alınıp incelenmesi\, TÜBİTAK’a iletilmesi\, programa dahil olacak girişimcilerin jüri tarafından seçilmesi\, seçilen girişimcilerin konu ile ilgili eğitimler alması aşamalarını içermektedir. \nTÜBİTAK desteğini alan girişimcilerimiz Sera Kuluçka Merkezi’nde AfterSera ticarileşme programına dahil olarak iş fikirlerini hayata geçirirken iş süreçlerini hem hızlandırma hem de profesyonel destek alma fırsatı yakalamış olacaklar. \nBİGG Erciyes programına; \n*Lisans son sınıf öğrencileri \n*Lisans mezunları \n*Yüksek lisans öğrencileri/mezunları \n*Doktora öğrencileri /mezunları \n*Akademisyenler \n*Son mezuniyet tarihinden itibaren en fazla 10 yıl geçmiş olanlar başvuru yapabilirler. \n  \nŞirketinizi 200.000 TL Hibe Desteği ile Kurabilirsiniz \nYenilikçi iş fikirlerinin girişimcilere verilen eğitimler ile geliştirilerek teknolojik tabanlı ürünlere dönüşümünü kapsayan BiGG Erciyes programında\, girişimcilere verilecek olan hibe TÜBİTAK tarafından sağlanmakta olup tamamen TÜBİTAK’ın yetkisi dahilindedir. Erciyes Teknopark olarak tüm girişimci adaylarını www.biggerciyes1512.com adresinden BiGG Erciyes programına başvurmaya davet ediyoruz.”
URL:https://erciyesteknopark.com/etkinlik/bigg-erciyes-tubitak-1512-teknogirisim-sermayesi-basvurulari-basladi/
ATTACH;FMTTYPE=image/jpeg:https://erciyesteknopark.com/wp-content/uploads/2021/03/BIGG-ERCIYES-TUBITAK-1512-TEKNOGIRISIM-SERMAYESI-BASVURULARI-BASLADI-scaled.jpg
END:VEVENT
END:VCALENDAR