BEGIN:VCALENDAR
VERSION:2.0
PRODID:-//Erciyes Teknopark - ECPv6.4.0.1//NONSGML v1.0//EN
CALSCALE:GREGORIAN
METHOD:PUBLISH
X-WR-CALNAME:Erciyes Teknopark
X-ORIGINAL-URL:https://erciyesteknopark.com
X-WR-CALDESC:Erciyes Teknopark için etkinlikler
REFRESH-INTERVAL;VALUE=DURATION:PT1H
X-Robots-Tag:noindex
X-PUBLISHED-TTL:PT1H
BEGIN:VTIMEZONE
TZID:Europe/Moscow
BEGIN:STANDARD
TZOFFSETFROM:+0300
TZOFFSETTO:+0300
TZNAME:MSK
DTSTART:20200101T000000
END:STANDARD
END:VTIMEZONE
BEGIN:VEVENT
DTSTART;TZID=Europe/Moscow:20201113T080000
DTEND;TZID=Europe/Moscow:20201113T170000
DTSTAMP:20260419T203434
CREATED:20201113T131538Z
LAST-MODIFIED:20211112T141553Z
UID:5856-1605254400-1605286800@erciyesteknopark.com
SUMMARY:Fikri Haklar Bilgilendirme Semineri
DESCRIPTION:Fikri Haklar Bilgilendirme Seminerine Davetlisiniz \nTarih: 13 Kasım 2020\, Cuma \nSaat: 14.00-15.30 \nEğitmen: Mesut AKTEKİN | ETTO Fikri Haklar Birimi Koordinatörü \nKayıt linki: https://www.kisa.link/O7kX
URL:https://erciyesteknopark.com/etkinlik/fikri-haklar-bilgilendirme-semineri/
ATTACH;FMTTYPE=image/jpeg:https://erciyesteknopark.com/wp-content/uploads/2020/11/fikri-haklar-scaled.jpg
END:VEVENT
BEGIN:VEVENT
DTSTART;VALUE=DATE:20201114
DTEND;VALUE=DATE:20201115
DTSTAMP:20260419T203434
CREATED:20201214T131907Z
LAST-MODIFIED:20211112T141822Z
UID:5860-1605312000-1605398399@erciyesteknopark.com
SUMMARY:Benim İşim Girişim Yarışması IV.Dönem Başvuruları Başladı !
DESCRIPTION:Projenizi Hayata Geçirmek için siz de başvurun. \nBaşvuru için www.benimisimgirisim.com \nSon başvuru tarihi: 14 Aralık 2020
URL:https://erciyesteknopark.com/etkinlik/benim-isim-girisim-yarismasi-iv-donem-basvurulari-basladi/
ATTACH;FMTTYPE=image/jpeg:https://erciyesteknopark.com/wp-content/uploads/2020/12/benim-isim-girisim-scaled.jpg
END:VEVENT
BEGIN:VEVENT
DTSTART;VALUE=DATE:20201120
DTEND;VALUE=DATE:20201121
DTSTAMP:20260419T203434
CREATED:20201120T131725Z
LAST-MODIFIED:20211112T141849Z
UID:5858-1605830400-1605916799@erciyesteknopark.com
SUMMARY:İçindeki Girişimciyi Fark Et
DESCRIPTION:Global Girişimcilik Haftası dolayısıyla düzenlediğimiz “Başarı Hikayeleri Paneline“ davetlisiniz. \nKonuşmacılar \nÇağla GÜL ŞENKARDEŞ  |  MenaPay      |  CO Founder & CEO \nİsa UYSAL                           | CepteTamir   | Founder \nBuse BERBER ÖRÇEN     | Nanomik        | CO Founder & CEO \n  \nTarih: 20 Kasım 2020 \nSaat : 15.00 \nKayıt Linki: www.kisa.link/O851
URL:https://erciyesteknopark.com/etkinlik/icindeki-girisimciyi-fark-et/
ATTACH;FMTTYPE=image/jpeg:https://erciyesteknopark.com/wp-content/uploads/2020/11/Icindeki-Girisimciyi-Fark-Et-scaled.jpg
END:VEVENT
END:VCALENDAR