BEGIN:VCALENDAR
VERSION:2.0
PRODID:-//Erciyes Teknopark - ECPv6.4.0.1//NONSGML v1.0//EN
CALSCALE:GREGORIAN
METHOD:PUBLISH
X-WR-CALNAME:Erciyes Teknopark
X-ORIGINAL-URL:https://erciyesteknopark.com
X-WR-CALDESC:Erciyes Teknopark için etkinlikler
REFRESH-INTERVAL;VALUE=DURATION:PT1H
X-Robots-Tag:noindex
X-PUBLISHED-TTL:PT1H
BEGIN:VTIMEZONE
TZID:Europe/Moscow
BEGIN:STANDARD
TZOFFSETFROM:+0300
TZOFFSETTO:+0300
TZNAME:MSK
DTSTART:20200101T000000
END:STANDARD
END:VTIMEZONE
BEGIN:VEVENT
DTSTART;VALUE=DATE:20200114
DTEND;VALUE=DATE:20200115
DTSTAMP:20260420T070243
CREATED:20200114T170306Z
LAST-MODIFIED:20211112T124155Z
UID:5706-1578960000-1579046399@erciyesteknopark.com
SUMMARY:SUMMIT ERCİYES
DESCRIPTION:Geleceğe Yatırım Yapanlar Zirvesi \nErciyes Teknopark ve ORAN Kalkınma Ajansı iş birliğinde gerçekleştirilecek olan “Summit Erciyes: Geleceğe Yatırım Yapanlar Zirvesi” 14 Ocak 2020 tarihinde Erciyes Dağı’nda gerçekleştirilecektir. \nDaralan geleneksel ekonomiden kurtulma yolları\, erken aşama yatırım pazarı fırsatları\, rekabet üstünlüğü elde etme ve teknoloji yatırımları yapan iş insanlarının tecrübe paylaşımları üzerinden iş dünyasında yeni bir farkındalığın oluşturulması amaçlanmaktadır. \nAnadolu’da büyüyen girişim sermayesinin bir parçası olmak adına siz de Summit Erciyes’de yerinizi alın! \nDetaylı program ve etkinliğe kayıt yaptırmak için: \nwww.summiterciyes.com
URL:https://erciyesteknopark.com/etkinlik/summit-erciyes/
ATTACH;FMTTYPE=image/jpeg:https://erciyesteknopark.com/wp-content/uploads/2021/11/summitErciyes-scaled.jpg
END:VEVENT
END:VCALENDAR