BEGIN:VCALENDAR
VERSION:2.0
PRODID:-//Erciyes Teknopark - ECPv6.4.0.1//NONSGML v1.0//EN
CALSCALE:GREGORIAN
METHOD:PUBLISH
X-WR-CALNAME:Erciyes Teknopark
X-ORIGINAL-URL:https://erciyesteknopark.com
X-WR-CALDESC:Erciyes Teknopark için etkinlikler
REFRESH-INTERVAL;VALUE=DURATION:PT1H
X-Robots-Tag:noindex
X-PUBLISHED-TTL:PT1H
BEGIN:VTIMEZONE
TZID:Europe/Moscow
BEGIN:STANDARD
TZOFFSETFROM:+0300
TZOFFSETTO:+0300
TZNAME:MSK
DTSTART:20190101T000000
END:STANDARD
END:VTIMEZONE
BEGIN:VEVENT
DTSTART;VALUE=DATE:20191114
DTEND;VALUE=DATE:20191115
DTSTAMP:20260420T031548
CREATED:20191114T080256Z
LAST-MODIFIED:20211112T122208Z
UID:5674-1573689600-1573775999@erciyesteknopark.com
SUMMARY:Sağlık Bilimleri Alanında TÜBİTAK ARDEB Uygulamalı Proje Yazma Eğitimi
DESCRIPTION:Değerli Araştırmacılar\, \nErciyes Teknoloji Transfer Ofisi (ETTO) tarafından düzenlenecek olan “Sağlık Bilimleri Alanında TÜBİTAK ARDEB Uygulamalı Proje Yazma Eğitimi’ne” davetlisiniz. \n  \nTarih:14-15 Kasım 2019 \nYer: Erciyes Teknopark Tekno 5 Binası Oksijen Toplantı Salonu \nSaat: 09.00-17.00 \n  \nEğitim kontenjan ile sınırlıdır. \nKayıt Linki: https://forms.gle/URUFn2D4XeCeeawH9 \n  \nDetaylı Bilgi İçin: \nErciyes Teknoloji Transfer Ofisi \nProje Destek Hizmetleri Birimi (0352 207 66 66 – 68333 – 68348) \n  \nSaygılarımızla
URL:https://erciyesteknopark.com/etkinlik/saglik-bilimleri-alaninda-tubitak-ardeb-uygulamali-proje-yazma-egitimi/
ATTACH;FMTTYPE=image/jpeg:https://erciyesteknopark.com/wp-content/uploads/2021/11/Saglik-Bilimleri-Alaninda-TUBITAK-ARDEB-Uygulamali-Proje-Yazma-Egitimi-scaled.jpg
END:VEVENT
BEGIN:VEVENT
DTSTART;VALUE=DATE:20191124
DTEND;VALUE=DATE:20191125
DTSTAMP:20260420T031548
CREATED:20211107T080501Z
LAST-MODIFIED:20211107T080501Z
UID:5677-1574553600-1574639999@erciyesteknopark.com
SUMMARY:İktisat\, İletişim Alanında Sosyal ve Beşeri Bilimler TÜBİTAK ARDEB Uygulamalı Proje Yazma Eğitimi
DESCRIPTION:Değerli Araştırmacılar\, \nErciyes Teknoloji Transfer Ofisi (ETTO) tarafından düzenlenecek olan “ İktisat\, İletişim Alanında Sosyal ve Beşeri Bilimler TÜBİTAK ARDEB Uygulamalı Proje Yazma Eğitimi’ne ” davetlisiniz. \n  \nTarih: 27-28 Kasım 2019\nYer: Erciyes Teknopark Tekno 5 Binası\, Oksijen Toplantı Salonu\nSaat: 09.00-17.00\nEğitmen: Prof.Dr.Ahmet Kılıç SÜERDEM\n\nEğitim kontenjan ile sınırlıdır.\nKayıt Linki: https://forms.gle/M7AyWnsb8znRoRLS9\n\nDetaylı Bilgi İçin:\nErciyes Teknoloji Transfer Ofisi\nProje Destek Hizmetleri Birimi (0352 207 66 66 – 68333 – 68348)\nSaygılarımızla \n 
URL:https://erciyesteknopark.com/etkinlik/iktisat-iletisim-alaninda-sosyal-ve-beseri-bilimler-tubitak-ardeb-uygulamali-proje-yazma-egitimi/
ATTACH;FMTTYPE=image/jpeg:https://erciyesteknopark.com/wp-content/uploads/2021/11/ardeb-sobag.jpg
END:VEVENT
BEGIN:VEVENT
DTSTART;VALUE=DATE:20191125
DTEND;VALUE=DATE:20191126
DTSTAMP:20260420T031548
CREATED:20191125T002259Z
LAST-MODIFIED:20211112T121718Z
UID:5671-1574640000-1574726399@erciyesteknopark.com
SUMMARY:Benim İşim Girişim Yarışması III.Dönem Başvuruları Başladı
DESCRIPTION:Orta Anadolu Kalkınma Ajansı ve Erciyes Teknopark A.Ş. iş birliği ile düzenlenen “Benim İşim Girişim” iş fikri yarışması ile bölgemizde teknoloji geliştirme içerikli\, ticari değer taşıyan\, yenilikçi iş fikirleri olan girişimci adaylarının\, ekipleri ile birlikte iş fikirlerini hayata geçirmelerinin teşvik edilmesi amaçlanmaktadır. \nBu yarışma ile başvuruları alınan yenilikçi iş fikirleri arasından en uygun olanları seçilerek\, bir prototipe dönüştürülmesi için malzeme ve hizmet alımları kalemlerinde finans desteği sağlanacaktır. Ayrıca iş fikri sahibi girişimci adaylarına Kayseri’de kurulu bulunan ve Teknopark tarafından işletilen girişimcilik merkezi olan Sera adlı ön kuluçka ve kuluçka hizmetleri de sunulacaktır. \nBaşvuru Kriterleri \n\nTürkiye Cumhuriyeti vatandaşı olmak\nTeknoloji tabanlı\, gerçekleştirilebilir\, yenilikçi ve ticari değere sahip iş fikri sahibi olmak\nBaşvuru tarihi itibariyle 18 yaşından gün almış olmak\nHali hazırda herhangi bir şirketin ortaklık yapısında yer almamak\nEn az 2 kişilik bir ekibe sahip olmak\n\nBireysel başvuru kabul edilmemektedir. Her takımın sadece bir iş fikri ile başvuru yapması beklenmektedir. Birden fazla iş fikri ile başvuru yapan takımların sadece bir projesi ön değerlendirmeden geçirilecektir. Değerlendirme sonucu kabul edilecek ekiplerin eğitim ve kuluçka faaliyetlerine katılmalarında devam şartı aranmaktadır. Şehir dışından başvuran girişimcilerin\, ulaşım ve konaklama işlemlerini\, kendi imkanları ile gerçekleştirmeleri beklenmektedir. \nBaşvuru için : www.benimisimgirisim.com
URL:https://erciyesteknopark.com/etkinlik/benim-isim-girisim-yarismasi-iii-donem-basvurulari-basladi/
ATTACH;FMTTYPE=image/jpeg:https://erciyesteknopark.com/wp-content/uploads/2021/11/Benim-Isim-Girisim-Yarismasi-III.Donem-Basvurulari-Basladi-19-scaled.jpg
END:VEVENT
BEGIN:VEVENT
DTSTART;VALUE=DATE:20191126
DTEND;VALUE=DATE:20191127
DTSTAMP:20260420T031548
CREATED:20190326T084803Z
LAST-MODIFIED:20211112T084937Z
UID:5837-1574726400-1574812799@erciyesteknopark.com
SUMMARY:ERC Bilgi Günü ve Tecrübe Paylaşımı Etkinliği
DESCRIPTION:Değerli Araştırmacılar; \nHorizon 2020 Bilimsel Mükemmeliyet fonlarından olan konu bağımsız ve ortaksız başvuru yapılabilen ERC (European Research Council) fonu için Erciyes Teknoloji Transfer Ofisi tarafından Tübitak ERC İrtibat Noktası Dr. Derya DÖNERTAŞ’ın katılımıyla bilgilendirme sunumu ve arkasından Prof. Dr. M. Serdar Genç’in ERC Consolidator Grant Projesi hazırlama süreciyle ilgili tecrübe paylaşımı etkinliği gerçekleşecektir. \nKatılım için lütfen kayıt formunu doldurunuz: https://goo.gl/USNv5W \nEtkinlik Yeri: Erciyes Teknopark Tekno 5 Binası Oksijen Toplantı Salonu\nEtkinlik Günü ve Saati: 26.03.2019 13:30- 16:30 \n 
URL:https://erciyesteknopark.com/etkinlik/erc-bilgi-gunu-ve-tecrube-paylasimi-etkinligi/
END:VEVENT
END:VCALENDAR