BEGIN:VCALENDAR
VERSION:2.0
PRODID:-//Erciyes Teknopark - ECPv6.4.0.1//NONSGML v1.0//EN
CALSCALE:GREGORIAN
METHOD:PUBLISH
X-WR-CALNAME:Erciyes Teknopark
X-ORIGINAL-URL:https://erciyesteknopark.com
X-WR-CALDESC:Erciyes Teknopark için etkinlikler
REFRESH-INTERVAL;VALUE=DURATION:PT1H
X-Robots-Tag:noindex
X-PUBLISHED-TTL:PT1H
BEGIN:VTIMEZONE
TZID:Europe/Moscow
BEGIN:STANDARD
TZOFFSETFROM:+0300
TZOFFSETTO:+0300
TZNAME:MSK
DTSTART:20190101T000000
END:STANDARD
END:VTIMEZONE
BEGIN:VEVENT
DTSTART;VALUE=DATE:20190902
DTEND;VALUE=DATE:20190903
DTSTAMP:20260420T022624
CREATED:20190208T231420Z
LAST-MODIFIED:20211112T073011Z
UID:5592-1567382400-1567468799@erciyesteknopark.com
SUMMARY:Veri Tabanı Yönetimi ve Güvenliği Eğitimi
DESCRIPTION:Yazılım sektöründe veri yönetimi ve güvenliği her geçen gün önem kazanmaktadır. Bu konuda farkındalık oluşturmak ve firmaların çalışmalarına katkı sunmak amacıyla çalışmalar gerçekleştirilmektedir. \nErciyes Teknopark tarafından “Veri Tabanı Yönetimi ve Güvenliği” eğitimi 9 Şubat 2019 tarihinde gerçekleştirilecektir. Eğitim içeriğinde cevap aranacak soru işaretleri ve detaylı bilgi aşağıda yer almaktadır. İlk eğitim 1 gün sürecek ve ücretsiz gerçekleştirilecektir. İlerleyen dönemde sizlerden gelecek taleplere göre daha kapsamlı workshop çalışmaları gerçekleştirilecektir. \nVeritabanı Yönetimi; \nBüyük veriyi yönetmenin zor olduğunu mu düşünüyorsunuz? 1 milyar satıra ne dersiniz? \nVt Sunucusunun performanslı çalışması için donanım alman gerektiğini mi düşünüyorsunuz? Bir daha düşünün! \nVT Yedeklemeniz günlük mü? Saniyelik yedekten dönebileceğinizi biliyor musunuz? \n  \nVeritabanı Güvenliği; \nSaldırıyı engellemek mi? Saldırganı iş üstünde yakalamaya ne dersiniz? \nDışarıdan gelen saldırıyı engelleyebilirsiniz? Ya içeriden geleni? \nSiber güvenlik denilince aklımıza ağ güvenliği geliyor? Peki\, en değerli verilerimizin tutulduğu veritabanı sistemlerimiz ne durumda? \n  \nEğitim başlığı: Veri Tabanı Yönetimi ve Güvenliği \nTarih: 9 Şubat 2019 Cumartesi / 10.00 – 16.00 \nEğitmen: Ömer Çolakoğlu \nYer: Hidrojen Toplantı Salonu \nEğitim süresi: 1 gün \nKayıt Linki: https://goe.gl/59hP0 (Kayıt zorunludur.)
URL:https://erciyesteknopark.com/etkinlik/veri-tabani-yonetimi-ve-guvenligi-egitimi/
ATTACH;FMTTYPE=image/jpeg:https://erciyesteknopark.com/wp-content/uploads/2021/11/Veri-Tabani-Yonetimi-ve-Guvenligi-Egiitmi-scaled.jpg
END:VEVENT
BEGIN:VEVENT
DTSTART;VALUE=DATE:20190905
DTEND;VALUE=DATE:20190906
DTSTAMP:20260420T022624
CREATED:20190905T000404Z
LAST-MODIFIED:20211112T120649Z
UID:5649-1567641600-1567727999@erciyesteknopark.com
SUMMARY:Kapadokya Uluslararası IP Günleri 2019
DESCRIPTION:Kapadokya Uluslararası IP Günleri ’19 Etkinliğinin Kayıtları Başladı \nTeknoloji transferinin temeli olan Fikri/Sınai Mülkiyet Hakları konularının ekosistemin önde gelenleri tarafından değerlendirilip\, TTO’ların bu süreçteki etkilerinin ve görevlerinin konuşulacağı\, bu sene dördüncüsü düzenlenecek olan Kapadokya Uluslararası IP Günleri ’19 etkinliğinin kayıtları açıldı. \nKayıt için http://kapadokyaip.erciyesteknopark.com/
URL:https://erciyesteknopark.com/etkinlik/kapadokya-uluslararasi-ip-gunleri-2019/
ATTACH;FMTTYPE=image/jpeg:https://erciyesteknopark.com/wp-content/uploads/2021/11/Kapadokya-Uluslararasi-IP-Gunleri-2019-scaled.jpg
END:VEVENT
BEGIN:VEVENT
DTSTART;VALUE=DATE:20190910
DTEND;VALUE=DATE:20190911
DTSTAMP:20260420T022624
CREATED:20190910T000959Z
LAST-MODIFIED:20211112T091121Z
UID:5656-1568073600-1568159999@erciyesteknopark.com
SUMMARY:Yazılım Firmaları İçin Dış Ticaret Eğitimi
DESCRIPTION:Değerli Erciyes Teknopark Firma Temsilcileri\, \nErciyes Teknopark Avrupa İşletmeler Ağı tarafından yazılım firmalarına yönelik dış ticaret eğitimi düzenlenecektir. Eğitime katılım ücretsiz olup\, başvurular herkese açıktır. \nEğitime katılım göstermek için başvuru yapmanız gerekmektedir. Eğitime başvurmak için tıklayınız. \nEğitim Detayları:\nTarih: 10 Eylül 2019\, Salı\nYer:   Erciyes Teknopark Tekno-5 Binası Konferans Salonu\nSaat: 09.00-16.00 \nEğitmen: Hakan Akın \nEğitimde işlenecek konu başlıkları aşağıdaki gibidir.\nYazılım İhracatı Yasal Uygulamalar\nİhracatta Ödeme Şekilleri\nİhracat Sözleşmeleri ve Belgeler\nDurum Analizi\nİhracat Hedef ve Stratejileri\nİhracat Sektör ve Müşteri Profili Belirleme\nHedef Pazar ve Müşteri Tespiti\nDestekler \nSaygılarımızla
URL:https://erciyesteknopark.com/etkinlik/yazilim-firmalari-icin-dis-ticaret-egitimi-09-19/
ATTACH;FMTTYPE=image/jpeg:https://erciyesteknopark.com/wp-content/uploads/2021/11/Yazilim-Firmalari-Icin-Dis-Ticaret-Egitimi-1.jpg
END:VEVENT
END:VCALENDAR