BEGIN:VCALENDAR
VERSION:2.0
PRODID:-//Erciyes Teknopark - ECPv6.4.0.1//NONSGML v1.0//EN
CALSCALE:GREGORIAN
METHOD:PUBLISH
X-ORIGINAL-URL:https://erciyesteknopark.com
X-WR-CALDESC:Erciyes Teknopark için etkinlikler
REFRESH-INTERVAL;VALUE=DURATION:PT1H
X-Robots-Tag:noindex
X-PUBLISHED-TTL:PT1H
BEGIN:VTIMEZONE
TZID:Europe/Moscow
BEGIN:STANDARD
TZOFFSETFROM:+0300
TZOFFSETTO:+0300
TZNAME:MSK
DTSTART:20190101T000000
END:STANDARD
END:VTIMEZONE
BEGIN:VEVENT
DTSTART;VALUE=DATE:20190403
DTEND;VALUE=DATE:20190404
DTSTAMP:20260420T092409
CREATED:20190402T233721Z
LAST-MODIFIED:20211112T090903Z
UID:5613-1554249600-1554335999@erciyesteknopark.com
SUMMARY:Tekno Yatırım Destek Programı Eğitimi
DESCRIPTION:Değerli Erciyes Teknopark Firma Temsilcileri\, \nBaşvuruya açılan KOSGEB KOBİ Teknolojik Ürün Yatırım Destek Programı ve KOSGEB KOBİ Dijitalleşme Programı (KOBİGEL) kapsamında 03 Nisan 2019\, Çarşamba günü bölgemizde bilgilendirme toplantısı düzenlenecektir. \nErciyes Teknopark ve KOSGEB Kayseri Müdürlüğü iş birliği ile gerçekleştirilecek olan etkinliğe katılımınızdan memnuniyet duyarız. \n  \nEtkinlik Bilgileri\nTarih: 03 Nisan 2019\, Çarşamba\nSaat: 14.00\nYer: Erciyes Teknopark Oksijen Toplantı Salonu \nKayıt Linki: https://www.kisa.link/LFnv \nSaygılarımızla \n 
URL:https://erciyesteknopark.com/etkinlik/tekno-yatirim-destek-programi-egitimi/
ATTACH;FMTTYPE=image/jpeg:https://erciyesteknopark.com/wp-content/uploads/2021/11/kisaFilm-scaled.jpg
END:VEVENT
BEGIN:VEVENT
DTSTART;VALUE=DATE:20190410
DTEND;VALUE=DATE:20190411
DTSTAMP:20260420T092409
CREATED:20190409T234140Z
LAST-MODIFIED:20211112T090951Z
UID:5616-1554854400-1554940799@erciyesteknopark.com
SUMMARY:Teknopark Firmalarına Özel Mali Uygulama Eğitimi
DESCRIPTION:Değerli Erciyes Teknopark Firma Temsilcileri\, \nErciyes Teknopark ve ORAN Kalkınma Ajansı iş birliği ile sizler için “Teknopark Firmalarına Özel Mali Uygulama Eğitimi” düzenlenecektir. Planlanan eğitimde 4691 Sayılı Kanun\, destekler ve teşvikler\, kurumlar vergisi istisnası\, KDV ve gelir vergisi\, SGK istisnaları\, teknopark muhasebesi ve özellikli durumlar anlatılacaktır. Eğitim sonunda soru-cevap bölümünde yaşadığınız sorunları paylaşıp konunun uzmanından çözüme yönelik dönüşler alabileceksiniz. \nSiz değerli teknopark firmalarına özel olarak sunulan destek ve teşviklerden daha efektif yararlanabilmeniz adına düzenleyeceğimiz bu eğitime katılımınızdan memnuniyet duyarız. \nEğitime katılanlara sertifika verilecek olup\, eğitim programı aşağıda bilgilerinize sunulmuştur. \nSaygılarımızla \nTarih: 10 Nisan 2019\, Çarşamba\nSaat: 10.00-17.00\nYer: Erciyes Teknopark Tekno 5 Konferans Salonu\nKayıt: https://forms.gle/EME9AhVG3UhbRnbTA \nPROGRAM\nTeknopark Tanımı ve İşleyişi\n4691 Sayılı Kanun – Teknoloji Geliştirme Bölgesi Destekler ve Teşvikler\nAra\nKurumlar Vergisi İstisnası\, KDV ve Gelir Vergisi\, SGK İstisnaları\nTeknopark Muhasebesi\nAra\nÖzellikli Durumlar\nSoru – Cevap
URL:https://erciyesteknopark.com/etkinlik/teknopark-firmalarina-ozel-mali-uygulama-egitimi/
ATTACH;FMTTYPE=image/jpeg:https://erciyesteknopark.com/wp-content/uploads/2021/11/Teknopark-Firmalarina-Ozel-Mali-Uygulama-Egitimi-scaled.jpg
END:VEVENT
BEGIN:VEVENT
DTSTART;VALUE=DATE:20190419
DTEND;VALUE=DATE:20190420
DTSTAMP:20260420T092409
CREATED:20190418T234927Z
LAST-MODIFIED:20211112T114558Z
UID:5628-1555632000-1555718399@erciyesteknopark.com
SUMMARY:ERBAN INVEST DAY
DESCRIPTION:Değerli Araştırmacılarımız\,\nAraştırmacılarla yatırımcıların bir araya geleceği ERBAN Invest Day’e katılımınızdan memnuniyet duyarız.\nEtkinliğe kayıt olmanızı rica ederiz.\nEtkinlik Kayıt Linki:  \nTarih: 19 Nisan Cuma Saat 14.00 – 17.00\nYer: Teknopark 5 Binası Sera Kuluçka Merkezi\nİletişim: Mehmet Yağcıoğlu\,mehmet.y@erciyesteknopark.com\,0352 224 81 12 / 336 \nSaygılarımızla
URL:https://erciyesteknopark.com/etkinlik/erban-invest-day-2019/
ATTACH;FMTTYPE=image/jpeg:https://erciyesteknopark.com/wp-content/uploads/2021/11/ERBAN-INVEST-DAY-2019-scaled.jpg
END:VEVENT
BEGIN:VEVENT
DTSTART;VALUE=DATE:20190422
DTEND;VALUE=DATE:20190423
DTSTAMP:20260420T092409
CREATED:20190421T234648Z
LAST-MODIFIED:20211112T113958Z
UID:5625-1555891200-1555977599@erciyesteknopark.com
SUMMARY:SOBAG Bilgi Günü
DESCRIPTION:Değerli Araştırmacılar; \nTÜBİTAK ARDEB fonlarından olan 1001\, 1002\, 1003\, 1005\, 3501 proje destek fonlarıyla Sosyal Beşeri Bilimler alanında faaliyet gösteren araştırmacılara yönelik destek vermektedir. \nSosyal ve Beşeri Bilimler Alanında faaliyet gösteren araştırmacılara yönelik; TÜBİTAK ARDEB Sosyal ve Beşeri Bilimler Araştırma Destek Grubu’nda (SOBAG) Bilimsel Programlar Uzman Yardımcısı olarak görev yapan Serkan Fatih ORAKÇI’nın TÜBİTAK Destekleri ile ilgili sunumu gerçekleşecektir. \n  \nEtkinlik kayıt linki: https://forms.gle/gjR2gdPSfyo5N1TS8 \nTarih ve Saat: 22 Nisan 2019 13:30-15:30 \nYer: Erciyes Teknopark Tekno 5 Konferans Salonu \nEtkinliğe kayıt olmanız önemli rica olunur. \nSaygılarımızla \n  \nErciyes Teknoloji Transfer Ofisi \nProje Destek Hizmetleri Birimi \nihsan.yogurt@erciyesteknopark.com \n2076666 – 68333
URL:https://erciyesteknopark.com/etkinlik/sobag-bilgi-gunu/
ATTACH;FMTTYPE=image/jpeg:https://erciyesteknopark.com/wp-content/uploads/2021/11/SOBAG-Bilgi-Gunu-scaled.jpg
END:VEVENT
BEGIN:VEVENT
DTSTART;VALUE=DATE:20190424
DTEND;VALUE=DATE:20190425
DTSTAMP:20260420T092409
CREATED:20190423T234343Z
LAST-MODIFIED:20211112T091257Z
UID:5619-1556064000-1556150399@erciyesteknopark.com
SUMMARY:Yazılım Firmaları İçin Dış Ticaret Eğitimi
DESCRIPTION:Değerli Erciyes Teknopark Firma Temsilcileri\, \nErciyes Teknopark Avrupa İşletmeler Ağı ve Kayseri Ticaret Odası iş birliği ile yazılım firmalarına yönelik dış ticaret eğitimi düzenlenecektir. Eğitime katılım ücretsiz olup\, başvurular herkese açıktır. \nEğitime katılım göstermek için başvuru yapmanız gerekmektedir. Eğitime başvurmak için tıklayınız. \nEğitim Detayları: \nTarih: 24 Nisan 2019\, Çarşamba \nYer:   Erciyes Teknopark Tekno-5 Binası Konferans Salonu \nSaat: 09.00-16.00\nEğitimde işlenecek konu başlıkları aşağıdaki gibidir. \nYazılım İhracatı Yasal Uygulamalar\nİhracatta Ödeme Şekilleri\nİhracat Sözleşmeleri ve Belgeler\nDurum Analizi\nİhracat Hedef ve Stratejileri\nİhracat Sektör ve Müşteri Profili Belirleme\nHedef Pazar ve Müşteri Tespiti\nDestekler \nSaygılarımızla
URL:https://erciyesteknopark.com/etkinlik/yazilim-firmalari-icin-dis-ticaret-egitimi-04-19/
ATTACH;FMTTYPE=image/jpeg:https://erciyesteknopark.com/wp-content/uploads/2021/11/Yazilim-Firmalari-Icin-Dis-Ticaret-Egitimi-scaled.jpg
END:VEVENT
BEGIN:VEVENT
DTSTART;VALUE=DATE:20190424
DTEND;VALUE=DATE:20190425
DTSTAMP:20260420T092409
CREATED:20190423T235026Z
LAST-MODIFIED:20211112T114920Z
UID:5631-1556064000-1556150399@erciyesteknopark.com
SUMMARY:Firmalar Arası Tanışma ve Ağ Toplantısı
DESCRIPTION:Değerli Erciyes Teknopark Firmaları\, \nTeknoloji Geliştirme Bölgemizde yer alan ve aramıza yeni katılan diğer firmalara kendinizi kısa bir zaman dilimi içerisinde tanıtacağınız ve tanışma fırsatı bulacağınız sizler için düzenlediğimiz Firmalar Arası Tanışma ve Ağ Toplantısına davetlisiniz. \nTarih: 24 Nisan 2019\, Çarşamba\nSaat: 14.00\nYer: Tekno 3 Binası\, Erciyes Toplantı Salonu \nSpeed Networking Tavsiyeleri: \n\nKarşınızdaki kişiyle tanışmak için sadece birkaç dakikanız olacak\, hazırlıklı gelin!\nGülümseyin! Gülümsemeler bulaşıcıdır. Yeni insanlarla tanışacak\, yeni bağlantılar kuracaksınız. Keyfini çıkarın!\nYanınızda bol miktarda kartvizit getirin. Tanıştıklarınız sizinle nasıl temasa geçebileceklerini bilsinler.\nYanınızda kağıt ve kalem getirin\, tanıştıklarınız hakkında kısa notlar almak isteyebilirsiniz.\nKonuşmaya hazır gelin. Kendinizi çok sayıda kişiye tanıtmanız gerekecek\, bunu susarak yapamazsınız.\nFarklı olun. Eğer tıpatıp diğerleri gibiyseniz hatırlanma ihtimaliniz düşük olacaktır.\nVerilmiş sözler yerine getirilemediği takdirde sadece bu bağlantıyı değil\, bütün bağlantılarınızla olan ilişkilerinizi zedeleyebilir. İnsanlar arasındaki etkileşim önemlidir.\n\nSpeed Networking Etkinliği Hk: http://adiloran.com/speednetworking/ \nSaygılarımızla
URL:https://erciyesteknopark.com/etkinlik/firmalar-arasi-tanisma-ve-ag-toplantisi/
ATTACH;FMTTYPE=image/jpeg:https://erciyesteknopark.com/wp-content/uploads/2021/11/Firmalar-Arasi-Tanisma-ve-Ag-Toplantisi.jpg
END:VEVENT
BEGIN:VEVENT
DTSTART;VALUE=DATE:20190430
DTEND;VALUE=DATE:20190501
DTSTAMP:20260420T092409
CREATED:20190429T234516Z
LAST-MODIFIED:20211112T111830Z
UID:5622-1556582400-1556668799@erciyesteknopark.com
SUMMARY:Türkiye İçin İCAT ÇIKARTALIM
DESCRIPTION:Dünya Fikri Mülkiyet Teşkilatı’nın (WIPO) kurulduğu anlaşmanın yürürlüğe girdiği gün olan 26 Nisan\, 2000 yılından bu yana tüm dünyada Dünya Fikri Mülkiyet Günü olarak kutlanmaktadır. \nGlobal şirketlerin marka değerini oluşturan varlıklarının büyük bir oranını “gayri maddi mal varlıkları” olan Patent\, Marka\, Tasarım vb. fikri sınai mülkiyet haklarının teşkil ettiğini düşünürsek akademik camia ve sanayi olarak bu konuya vermemiz gereken önem açıkça görülmektedir. \nDünya Fikri Mülkiyet Günü özelinde\, Fikri Mülkiyetin Dünü\, Bugünü\, Yarınını konuşacağımız\, Türk Patent ve Marka Kurumu’nun kurucu başkanı ile birlikte patentin duayen isimlerinin katılacağı “Türkiye İçin İCAT ÇIKARTALIM” başlıklı panelimizde sizleri de aramızda görmekten onur duyacağız. \nTarih : 30 Nisan 2019\, Salı \nSaat : 14.00-17.00 \nYer : ERÜ Sabancı Kültür Sitesi \nKatılım için kayıt zorunlu olup aşağıdaki linkten kayıt yapılmasını rica ederiz. \nEtkinlik Kayıt Linki: https://goo.gl/wfvaZN \n  \nSaygılarımızla \n 
URL:https://erciyesteknopark.com/etkinlik/turkiye-icin-icat-cikartalim/
ATTACH;FMTTYPE=image/jpeg:https://erciyesteknopark.com/wp-content/uploads/2021/11/Turkiye-Icin-ICAT-CIKARTALIM-scaled.jpg
END:VEVENT
END:VCALENDAR