BEGIN:VCALENDAR
VERSION:2.0
PRODID:-//Erciyes Teknopark - ECPv6.4.0.1//NONSGML v1.0//EN
CALSCALE:GREGORIAN
METHOD:PUBLISH
X-WR-CALNAME:Erciyes Teknopark
X-ORIGINAL-URL:https://erciyesteknopark.com
X-WR-CALDESC:Erciyes Teknopark için etkinlikler
REFRESH-INTERVAL;VALUE=DURATION:PT1H
X-Robots-Tag:noindex
X-PUBLISHED-TTL:PT1H
BEGIN:VTIMEZONE
TZID:Europe/Moscow
BEGIN:STANDARD
TZOFFSETFROM:+0300
TZOFFSETTO:+0300
TZNAME:MSK
DTSTART:20210101T000000
END:STANDARD
END:VTIMEZONE
BEGIN:VEVENT
DTSTART;VALUE=DATE:20210610
DTEND;VALUE=DATE:20210611
DTSTAMP:20260419T152058
CREATED:20210610T144723Z
LAST-MODIFIED:20220116T112539Z
UID:5908-1623283200-1623369599@erciyesteknopark.com
SUMMARY:Yenilenmiş Bigg 1512 Programı
DESCRIPTION:Yenilenmiş Bigg 1512 Programı şirketinizi 200.000 TL hibe ile kurmak için siz de başvurun.
URL:https://erciyesteknopark.com/etkinlik/yenilenmis-bigg-1512-programi/
ATTACH;FMTTYPE=image/jpeg:https://erciyesteknopark.com/wp-content/uploads/2021/11/Yenilenmis-Bigg-1512-Program-scaled.jpg
END:VEVENT
END:VCALENDAR