BEGIN:VCALENDAR
VERSION:2.0
PRODID:-//Erciyes Teknopark - ECPv6.4.0.1//NONSGML v1.0//EN
CALSCALE:GREGORIAN
METHOD:PUBLISH
X-ORIGINAL-URL:https://erciyesteknopark.com
X-WR-CALDESC:Erciyes Teknopark için etkinlikler
REFRESH-INTERVAL;VALUE=DURATION:PT1H
X-Robots-Tag:noindex
X-PUBLISHED-TTL:PT1H
BEGIN:VTIMEZONE
TZID:Europe/Moscow
BEGIN:STANDARD
TZOFFSETFROM:+0300
TZOFFSETTO:+0300
TZNAME:MSK
DTSTART:20210101T000000
END:STANDARD
END:VTIMEZONE
BEGIN:VEVENT
DTSTART;VALUE=DATE:20210407
DTEND;VALUE=DATE:20210408
DTSTAMP:20260420T024714
CREATED:20210407T134137Z
LAST-MODIFIED:20211112T143310Z
UID:5877-1617753600-1617839999@erciyesteknopark.com
SUMMARY:12. ERBAN Invest Day
DESCRIPTION:Değerli Yatırımcılar\,\n12. ERBAN Invest Day programında biyoteknoloji girişimlerini sizlerle bir araya getiriyoruz.\n  \nTarih: 7 Nisan 2021\, Çarşamba\nSaat: 15.00-16.00\nİletişim: Erciyes Teknoloji Transfer Ofisi\, Muhammed Bellek\, muhammed.bellek@erciyesteknopark.com
URL:https://erciyesteknopark.com/etkinlik/12-erban-invest-day/
ATTACH;FMTTYPE=image/jpeg:https://erciyesteknopark.com/wp-content/uploads/2021/04/12.-ERBAN-Invest-Day.jpg
END:VEVENT
END:VCALENDAR