BEGIN:VCALENDAR
VERSION:2.0
PRODID:-//Erciyes Teknopark - ECPv6.4.0.1//NONSGML v1.0//EN
CALSCALE:GREGORIAN
METHOD:PUBLISH
X-ORIGINAL-URL:https://erciyesteknopark.com
X-WR-CALDESC:Erciyes Teknopark için etkinlikler
REFRESH-INTERVAL;VALUE=DURATION:PT1H
X-Robots-Tag:noindex
X-PUBLISHED-TTL:PT1H
BEGIN:VTIMEZONE
TZID:Europe/Moscow
BEGIN:STANDARD
TZOFFSETFROM:+0300
TZOFFSETTO:+0300
TZNAME:MSK
DTSTART:20210101T000000
END:STANDARD
END:VTIMEZONE
BEGIN:VEVENT
DTSTART;VALUE=DATE:20210323
DTEND;VALUE=DATE:20210324
DTSTAMP:20260420T024723
CREATED:20210323T134036Z
LAST-MODIFIED:20211112T134103Z
UID:5875-1616457600-1616543999@erciyesteknopark.com
SUMMARY:TÜBİTAK TEYDEB 1505 Üniversite İş Birliği Destek Programı Bilgilendirme Günü
DESCRIPTION:Erciyes Teknopark Erciyes Teknoloji Transfer Ofisi tarafından düzenlenecek olan TÜBİTAK TEYDEB 1505 Üniversite-Sanayi İş Birliği Destek Programı Bilgilendirme Günü etkinliğine davetlisiniz. \n  \nTarih: 23 Mart 2021\nSaat: 14.00\nKonuşmacı: Dr. Alp Eren Yurtseven | TÜBİTAK TEMEG Grup Koordinatörü V.\nPlatform: Zoom\nEtkinliğe kayıt için: http://www.kisa.link/OEdz
URL:https://erciyesteknopark.com/etkinlik/tubitak-teydeb-1505-universite-is-birligi-destek-programi-bilgilendirme-gunu/
END:VEVENT
END:VCALENDAR