BEGIN:VCALENDAR
VERSION:2.0
PRODID:-//Erciyes Teknopark - ECPv6.4.0.1//NONSGML v1.0//EN
CALSCALE:GREGORIAN
METHOD:PUBLISH
X-WR-CALNAME:Erciyes Teknopark
X-ORIGINAL-URL:https://erciyesteknopark.com
X-WR-CALDESC:Erciyes Teknopark için etkinlikler
REFRESH-INTERVAL;VALUE=DURATION:PT1H
X-Robots-Tag:noindex
X-PUBLISHED-TTL:PT1H
BEGIN:VTIMEZONE
TZID:Europe/Moscow
BEGIN:STANDARD
TZOFFSETFROM:+0300
TZOFFSETTO:+0300
TZNAME:MSK
DTSTART:20210101T000000
END:STANDARD
END:VTIMEZONE
BEGIN:VEVENT
DTSTART;VALUE=DATE:20210303
DTEND;VALUE=DATE:20210304
DTSTAMP:20260419T152022
CREATED:20210303T133905Z
LAST-MODIFIED:20211112T142635Z
UID:5871-1614729600-1614815999@erciyesteknopark.com
SUMMARY:ERBAN Invest Day
DESCRIPTION:Kayseri’nin teknoloji ile buluşma zamanı ERBAN Invest Day  artık her ayın ilk çarşambası ! \nTarih: 3 Mart 2021\,  Çarşamba \nSaat: 15.00-16.00
URL:https://erciyesteknopark.com/etkinlik/erban-invest-day/
ATTACH;FMTTYPE=image/jpeg:https://erciyesteknopark.com/wp-content/uploads/2021/03/ERBAN-Invest-Day-scaled.jpg
END:VEVENT
END:VCALENDAR