BEGIN:VCALENDAR
VERSION:2.0
PRODID:-//Erciyes Teknopark - ECPv6.4.0.1//NONSGML v1.0//EN
CALSCALE:GREGORIAN
METHOD:PUBLISH
X-WR-CALNAME:Erciyes Teknopark
X-ORIGINAL-URL:https://erciyesteknopark.com
X-WR-CALDESC:Erciyes Teknopark için etkinlikler
REFRESH-INTERVAL;VALUE=DURATION:PT1H
X-Robots-Tag:noindex
X-PUBLISHED-TTL:PT1H
BEGIN:VTIMEZONE
TZID:Europe/Moscow
BEGIN:STANDARD
TZOFFSETFROM:+0300
TZOFFSETTO:+0300
TZNAME:MSK
DTSTART:20200101T000000
END:STANDARD
END:VTIMEZONE
BEGIN:VEVENT
DTSTART;VALUE=DATE:20201203
DTEND;VALUE=DATE:20201204
DTSTAMP:20260419T214511
CREATED:20201203T132046Z
LAST-MODIFIED:20211112T133446Z
UID:5862-1606953600-1607039999@erciyesteknopark.com
SUMMARY:Fikir Fabrikası Çok Uluslu Girişimcilik Programı Demo Day Etkinliğine Davetlisiniz
DESCRIPTION:Sanayi ve Teknoloji Bakanlığı ile Birleşmiş Milletler Kalkınma Programı (UNDP) tarafından organize edilen\, KfW-Alman Kalkınma Bankası tarafından finanse edilen\, Erciyes Teknopark ve Başkent Üniversitesi tarafından yürütülen\, Fikir Fabrikası Çok Uluslu Girişimcilik Programında son aşamaya kalan takımlar ürettikleri prototiplerini sergileyecekler. Fikir Fabrikası Çok Uluslu Girişimcilik Programı takımlarının yaklaşık bir yıllık emek harcadıkları projelerini sergileyecekleri demo day etkinliğinde bu heyecanı onlarla paylaşmanız adına sizleri çevrimiçi olarak düzenleyeceğimiz etkinliğimize davet ediyoruz. \n  \nTarih: 3 Aralık 2020 \nSaat : 14.00 \nKatılım İçin:  \n 
URL:https://erciyesteknopark.com/etkinlik/fikir-fabrikasi-cok-uluslu-girisimcilik-programi-demo-day-etkinligine-davetlisiniz/
END:VEVENT
END:VCALENDAR