BEGIN:VCALENDAR
VERSION:2.0
PRODID:-//Erciyes Teknopark - ECPv6.4.0.1//NONSGML v1.0//EN
CALSCALE:GREGORIAN
METHOD:PUBLISH
X-ORIGINAL-URL:https://erciyesteknopark.com
X-WR-CALDESC:Erciyes Teknopark için etkinlikler
REFRESH-INTERVAL;VALUE=DURATION:PT1H
X-Robots-Tag:noindex
X-PUBLISHED-TTL:PT1H
BEGIN:VTIMEZONE
TZID:Europe/Moscow
BEGIN:STANDARD
TZOFFSETFROM:+0300
TZOFFSETTO:+0300
TZNAME:MSK
DTSTART:20200101T000000
END:STANDARD
END:VTIMEZONE
BEGIN:VEVENT
DTSTART;TZID=Europe/Moscow:20201113T080000
DTEND;TZID=Europe/Moscow:20201113T170000
DTSTAMP:20260419T214456
CREATED:20201113T131538Z
LAST-MODIFIED:20211112T141553Z
UID:5856-1605254400-1605286800@erciyesteknopark.com
SUMMARY:Fikri Haklar Bilgilendirme Semineri
DESCRIPTION:Fikri Haklar Bilgilendirme Seminerine Davetlisiniz \nTarih: 13 Kasım 2020\, Cuma \nSaat: 14.00-15.30 \nEğitmen: Mesut AKTEKİN | ETTO Fikri Haklar Birimi Koordinatörü \nKayıt linki: https://www.kisa.link/O7kX
URL:https://erciyesteknopark.com/etkinlik/fikri-haklar-bilgilendirme-semineri/
ATTACH;FMTTYPE=image/jpeg:https://erciyesteknopark.com/wp-content/uploads/2020/11/fikri-haklar-scaled.jpg
END:VEVENT
END:VCALENDAR