BEGIN:VCALENDAR
VERSION:2.0
PRODID:-//Erciyes Teknopark - ECPv6.4.0.1//NONSGML v1.0//EN
CALSCALE:GREGORIAN
METHOD:PUBLISH
X-WR-CALNAME:Erciyes Teknopark
X-ORIGINAL-URL:https://erciyesteknopark.com
X-WR-CALDESC:Erciyes Teknopark için etkinlikler
REFRESH-INTERVAL;VALUE=DURATION:PT1H
X-Robots-Tag:noindex
X-PUBLISHED-TTL:PT1H
BEGIN:VTIMEZONE
TZID:Europe/Moscow
BEGIN:STANDARD
TZOFFSETFROM:+0300
TZOFFSETTO:+0300
TZNAME:MSK
DTSTART:20200101T000000
END:STANDARD
END:VTIMEZONE
BEGIN:VEVENT
DTSTART;VALUE=DATE:20201026
DTEND;VALUE=DATE:20201027
DTSTAMP:20260423T080702
CREATED:20201026T130522Z
LAST-MODIFIED:20211112T134957Z
UID:5852-1603670400-1603756799@erciyesteknopark.com
SUMMARY:Benim İşim Girişim İş Fikri Yarışması 3.Dönem Demoday Etkinliğine Davetlisiniz
DESCRIPTION:Değerli Erciyes Teknopark Firma Temsilcileri\, \nErciyes Teknopark ve Orta Anadolu Kalkınma Ajansı (ORAN) iş birliğiyle düzenlenen\, Benim İşim Girişim İş Fikri Yarışması Final Günü / Demoday etkinliğinde en iyi üç takım seçiliyor. \nBenim İşim Girişim İş Fikri Yarışması’nın 26 Ekim 2020 tarihinde düzenlenecek olan 3.Dönem finalinde sizleri de aramızda görmekten memnuniyet duyarız. \n  \nEtkinlik online olarak gerçekleştirilecek olup katılım için ilgili link\, kayıt sonrasında mail adresinize gönderilecektir. \nKayıt İçin: https://www.kisa.link//O1L7
URL:https://erciyesteknopark.com/etkinlik/benim-isim-girisim-is-fikri-yarismasi-3-donem-demoday-etkinligine-davetlisiniz/
ATTACH;FMTTYPE=image/jpeg:https://erciyesteknopark.com/wp-content/uploads/2020/10/benim-isim-girisim3.jpg
END:VEVENT
END:VCALENDAR