BEGIN:VCALENDAR
VERSION:2.0
PRODID:-//Erciyes Teknopark - ECPv6.4.0.1//NONSGML v1.0//EN
CALSCALE:GREGORIAN
METHOD:PUBLISH
X-ORIGINAL-URL:https://erciyesteknopark.com
X-WR-CALDESC:Erciyes Teknopark için etkinlikler
REFRESH-INTERVAL;VALUE=DURATION:PT1H
X-Robots-Tag:noindex
X-PUBLISHED-TTL:PT1H
BEGIN:VTIMEZONE
TZID:Europe/Moscow
BEGIN:STANDARD
TZOFFSETFROM:+0300
TZOFFSETTO:+0300
TZNAME:MSK
DTSTART:20200101T000000
END:STANDARD
END:VTIMEZONE
BEGIN:VEVENT
DTSTART;VALUE=DATE:20201014
DTEND;VALUE=DATE:20201015
DTSTAMP:20260419T223418
CREATED:20201014T200056Z
LAST-MODIFIED:20211112T130313Z
UID:5740-1602633600-1602719999@erciyesteknopark.com
SUMMARY:KOSGEB Destekleri Tanıtım Etkinliği
DESCRIPTION:Değerli Erciyes Teknopark Firma Temsilcileri\, \n14 Ekim 2020 Çarşamba günü\, saat 14:30’da KOSGEB desteklerinden Ar-Ge İnovasyon ve Teknoyatırım başlıkları ile ilgili bilgilendirme toplantısı yapılacaktır. \nBilgilendirme KOSGEB Uzmanları tarafından yapılacak olup katılım ücretsizdir. \nÇevrimiçi olarak gerçekleştirilecek etkinliğe aşağıdaki bağlantıdan kayıt oluşturmanız durumunda toplantı günü tarafınıza katılım linki gönderilecektir. \nKayıt Linki : https://www.kisa.link/O0EP \nSaygılarımızla
URL:https://erciyesteknopark.com/etkinlik/kosgeb-destekleri-tanitim-etkinligi/
ATTACH;FMTTYPE=image/jpeg:https://erciyesteknopark.com/wp-content/uploads/2021/11/KOSGEB-Destekleri-Tanitim-Etkinligi.jpg
END:VEVENT
END:VCALENDAR