BEGIN:VCALENDAR
VERSION:2.0
PRODID:-//Erciyes Teknopark - ECPv6.4.0.1//NONSGML v1.0//EN
CALSCALE:GREGORIAN
METHOD:PUBLISH
X-WR-CALNAME:Erciyes Teknopark
X-ORIGINAL-URL:https://erciyesteknopark.com
X-WR-CALDESC:Erciyes Teknopark için etkinlikler
REFRESH-INTERVAL;VALUE=DURATION:PT1H
X-Robots-Tag:noindex
X-PUBLISHED-TTL:PT1H
BEGIN:VTIMEZONE
TZID:Europe/Moscow
BEGIN:STANDARD
TZOFFSETFROM:+0300
TZOFFSETTO:+0300
TZNAME:MSK
DTSTART:20200101T000000
END:STANDARD
END:VTIMEZONE
BEGIN:VEVENT
DTSTART;VALUE=DATE:20201009
DTEND;VALUE=DATE:20201010
DTSTAMP:20260419T213627
CREATED:20201009T195922Z
LAST-MODIFIED:20211112T130201Z
UID:5737-1602201600-1602287999@erciyesteknopark.com
SUMMARY:Erban Invest Day
DESCRIPTION:Erban Invest Day çevrimiçi etkinliğine katılarak teknoloji ve yenilik üreten girişimciler ile buluşabilir ve yatırım fırsatlarını yakalayabilirsiniz. \nTarih: 9 Ekim 2020\, Cuma\nSaat:  15.00\nİletişim: Mehmet Yağcıoğlu\, mehmet.y@erciyesteknopark.com\, 0352 224 81 12 /349
URL:https://erciyesteknopark.com/etkinlik/erban-invest-day-2020/
ATTACH;FMTTYPE=image/jpeg:https://erciyesteknopark.com/wp-content/uploads/2021/11/Erban-Invest-Day.jpg
END:VEVENT
END:VCALENDAR