BEGIN:VCALENDAR
VERSION:2.0
PRODID:-//Erciyes Teknopark - ECPv6.4.0.1//NONSGML v1.0//EN
CALSCALE:GREGORIAN
METHOD:PUBLISH
X-WR-CALNAME:Erciyes Teknopark
X-ORIGINAL-URL:https://erciyesteknopark.com
X-WR-CALDESC:Erciyes Teknopark için etkinlikler
REFRESH-INTERVAL;VALUE=DURATION:PT1H
X-Robots-Tag:noindex
X-PUBLISHED-TTL:PT1H
BEGIN:VTIMEZONE
TZID:Europe/Moscow
BEGIN:STANDARD
TZOFFSETFROM:+0300
TZOFFSETTO:+0300
TZNAME:MSK
DTSTART:20200101T000000
END:STANDARD
END:VTIMEZONE
BEGIN:VEVENT
DTSTART;VALUE=DATE:20201005
DTEND;VALUE=DATE:20201006
DTSTAMP:20260420T024707
CREATED:20201015T130345Z
LAST-MODIFIED:20211112T130451Z
UID:5849-1601856000-1601942399@erciyesteknopark.com
SUMMARY:Turkcell Startup İş Birlikteliği Modeli - Erciyes Teknopark Tanıtımı
DESCRIPTION:Değerli Erciyes Teknopark Firma Temsilcileri\,\nTurkcell’in startuplarla yürüttüğü çalışma modelini dinleyip Turkcell ile çalışma fırsatını yakalamak adına siz değerli firma temsilcilerimizi düzenlenecek olan etkinliğe davet ediyoruz.\n\nModelin anlatılacağı etkinlik detayları aşağıdaki gibidir;\n\nTarih: 15.10.2020\nSaat: 10.00-11.00\nLink: https://turkcell.webex.com/meet/hande.cumurcu\n 
URL:https://erciyesteknopark.com/etkinlik/turkcell-startup-is-birlikteligi-modeli-erciyes-teknopark-tanitimi/
ATTACH;FMTTYPE=image/png:https://erciyesteknopark.com/wp-content/uploads/2020/10/Turkcell-Startup-Is-Birlikteligi-Modeli-Erciyes-Teknopark-Tanitimi.png
END:VEVENT
END:VCALENDAR