BEGIN:VCALENDAR
VERSION:2.0
PRODID:-//Erciyes Teknopark - ECPv6.4.0.1//NONSGML v1.0//EN
CALSCALE:GREGORIAN
METHOD:PUBLISH
X-WR-CALNAME:Erciyes Teknopark
X-ORIGINAL-URL:https://erciyesteknopark.com
X-WR-CALDESC:Erciyes Teknopark için etkinlikler
REFRESH-INTERVAL;VALUE=DURATION:PT1H
X-Robots-Tag:noindex
X-PUBLISHED-TTL:PT1H
BEGIN:VTIMEZONE
TZID:Europe/Moscow
BEGIN:STANDARD
TZOFFSETFROM:+0300
TZOFFSETTO:+0300
TZNAME:MSK
DTSTART:20200101T000000
END:STANDARD
END:VTIMEZONE
BEGIN:VEVENT
DTSTART;VALUE=DATE:20200723
DTEND;VALUE=DATE:20200724
DTSTAMP:20260419T224343
CREATED:20211107T195615Z
LAST-MODIFIED:20211107T195615Z
UID:5731-1595462400-1595548799@erciyesteknopark.com
SUMMARY:TÜBİTAK TEYDEB 1505 Üniversite Sanayi İşbirliği Destek Programı Bilgilendirme Toplantısı
DESCRIPTION:Değerli Akademisyenler\, \nTÜBİTAK\, Erciyes Teknoloji Transfer Ofisi iş birliği ile “TÜBİTAK TEYDEB 1505 Üniversite Sanayi İşbirliği Destek Programına” ilişkin çevirimiçi bilgilendirme toplantısı düzenlenecek olup kayıt linki aşağıda yer almaktadır. \nTarih: 23 Temmuz 2020\, Perşembe\nSaat: 14.00\nKonuşmacı: Dr. Alp Eren YURTSEVEN TÜBİTAK TEMEG Koordinatörü V.\nKayıt için: https://www.kisa.link/NN20\nSaygılarımızla \n 
URL:https://erciyesteknopark.com/etkinlik/tubitak-teydeb-1505-universite-sanayi-isbirligi-destek-programi-bilgilendirme-toplantisi/
ATTACH;FMTTYPE=image/jpeg:https://erciyesteknopark.com/wp-content/uploads/2021/11/TUBITAK-TEYDEB-1505-2020.jpg
END:VEVENT
END:VCALENDAR