BEGIN:VCALENDAR
VERSION:2.0
PRODID:-//Erciyes Teknopark - ECPv6.4.0.1//NONSGML v1.0//EN
CALSCALE:GREGORIAN
METHOD:PUBLISH
X-WR-CALNAME:Erciyes Teknopark
X-ORIGINAL-URL:https://erciyesteknopark.com
X-WR-CALDESC:Erciyes Teknopark için etkinlikler
REFRESH-INTERVAL;VALUE=DURATION:PT1H
X-Robots-Tag:noindex
X-PUBLISHED-TTL:PT1H
BEGIN:VTIMEZONE
TZID:Europe/Moscow
BEGIN:STANDARD
TZOFFSETFROM:+0300
TZOFFSETTO:+0300
TZNAME:MSK
DTSTART:20200101T000000
END:STANDARD
END:VTIMEZONE
BEGIN:VEVENT
DTSTART;VALUE=DATE:20200521
DTEND;VALUE=DATE:20200522
DTSTAMP:20260419T214849
CREATED:20200521T194947Z
LAST-MODIFIED:20211112T125245Z
UID:5719-1590019200-1590105599@erciyesteknopark.com
SUMMARY:Yeni Normalde Ar-Ge Merkezleri ile Online İstişare ve Bilgilendirme Toplantısı
DESCRIPTION:Kayseri’deki Ar-Ge Merkezlerinin temsilcileri ile “Yeni Normalde Ar-Ge Merkezleri ile Online İstişare ve Bilgilendirme Toplantısı” düzenlenecektir. \nDüzenlenecek olan online toplantıda aşağıdaki konu başlıkları görüşülecektir. \n– Yeni Normalde Ar-Ge Merkezleri ile İstişare \n– TEYDEB 2.0 ile Önem Kazanan Fonlar \n– TÜBİTAK Sipariş Ar-Ge 2020 Fonu \n– TÜBİTAK Patent Tabanlı Teknoloji Transferi Destekleme Fonu \n– Önem Kazanan AB Fonları \n  \nModeratör: Prof. Dr. Recai Kılıç (Erciyes Teknopark A.Ş. Yönetim Kurulu Başkanı) \nTarih: 21.05.2020 \nSaat: 10:30 \nKayıt İçin: orbaysimsek@erciyesteknopark.com
URL:https://erciyesteknopark.com/etkinlik/yeni-normalde-ar-ge-merkezleri-ile-online-istisare-ve-bilgilendirme-toplantisi/
ATTACH;FMTTYPE=image/jpeg:https://erciyesteknopark.com/wp-content/uploads/2021/11/argeMerkez.jpg
END:VEVENT
END:VCALENDAR