BEGIN:VCALENDAR
VERSION:2.0
PRODID:-//Erciyes Teknopark - ECPv6.4.0.1//NONSGML v1.0//EN
CALSCALE:GREGORIAN
METHOD:PUBLISH
X-ORIGINAL-URL:https://erciyesteknopark.com
X-WR-CALDESC:Erciyes Teknopark için etkinlikler
REFRESH-INTERVAL;VALUE=DURATION:PT1H
X-Robots-Tag:noindex
X-PUBLISHED-TTL:PT1H
BEGIN:VTIMEZONE
TZID:Europe/Moscow
BEGIN:STANDARD
TZOFFSETFROM:+0300
TZOFFSETTO:+0300
TZNAME:MSK
DTSTART:20190101T000000
END:STANDARD
END:VTIMEZONE
BEGIN:VEVENT
DTSTART;VALUE=DATE:20191212
DTEND;VALUE=DATE:20191213
DTSTAMP:20260420T070048
CREATED:20191212T081119Z
LAST-MODIFIED:20211112T123506Z
UID:5686-1576108800-1576195199@erciyesteknopark.com
SUMMARY:Edebiyat\, Dil\, Tarih Araştırma Alanlarında Sosyal ve Beşeri Bilimler TÜBİTAK ARDEB Uygulamalı Proje Yazma Eğitimi
DESCRIPTION:Değerli Araştırmacılar\, \nErciyes Teknoloji Transfer Ofisi (ETTO) tarafından düzenlenecek olan “ Edebiyat\, Dil\, Tarih Araştırma Alanlarında Sosyal ve Beşeri Bilimler TÜBİTAK ARDEB Uygulamalı Proje Yazma Eğitimi’ne ” davetlisiniz. \nTarih: 12-13 Aralık 2019\nYer: Erciyes Teknopark Tekno 5 Binası\, Oksijen Toplantı Salonu\nSaat: 09.00-17.00\nEğitmen: Dr. Öğretim. Üyesi Azer Banu Kemaloğlu\n\nEğitim kontenjan ile sınırlıdır.\nKayıt Linki: https://forms.gle/M7AyWnsb8znRoRLS9\n\nDetaylı Bilgi İçin:\nErciyes Teknoloji Transfer Ofisi\nProje Destek Hizmetleri Birimi (0352 207 66 66 – 68333 – 68348)
URL:https://erciyesteknopark.com/etkinlik/edebiyat-dil-tarih-arastirma-alanlarinda-sosyal-ve-beseri-bilimler-tubitak-ardeb-uygulamali-proje-yazma-egitimi/
ATTACH;FMTTYPE=image/jpeg:https://erciyesteknopark.com/wp-content/uploads/2021/11/ardeb-edebiyat.jpg
END:VEVENT
END:VCALENDAR