BEGIN:VCALENDAR
VERSION:2.0
PRODID:-//Erciyes Teknopark - ECPv6.4.0.1//NONSGML v1.0//EN
CALSCALE:GREGORIAN
METHOD:PUBLISH
X-WR-CALNAME:Erciyes Teknopark
X-ORIGINAL-URL:https://erciyesteknopark.com
X-WR-CALDESC:Erciyes Teknopark için etkinlikler
REFRESH-INTERVAL;VALUE=DURATION:PT1H
X-Robots-Tag:noindex
X-PUBLISHED-TTL:PT1H
BEGIN:VTIMEZONE
TZID:Europe/Moscow
BEGIN:STANDARD
TZOFFSETFROM:+0300
TZOFFSETTO:+0300
TZNAME:MSK
DTSTART:20190101T000000
END:STANDARD
END:VTIMEZONE
BEGIN:VEVENT
DTSTART;VALUE=DATE:20191010
DTEND;VALUE=DATE:20191011
DTSTAMP:20260420T022630
CREATED:20211107T001210Z
LAST-MODIFIED:20211107T001535Z
UID:5659-1570665600-1570751999@erciyesteknopark.com
SUMMARY:2.Ulusal Üniversiteler Patent Yarışması Tanıtım Toplantısı
DESCRIPTION:Değerli Öğrenciler\,\nÜniversitelerimizde üretilen teknik bilginin patente dönüştürülerek ülke ekonomisinin ve teknolojisinin gelişmesine katkı sağlanması amacıyla Türk Patent ve Marka Kurumu tarafından düzenlenen “Patentle Türkiye” yarışmasının ikincisine başvurular başladı.Yarışmayla ilgili başvuru\, yarışma prosedürleri\, temel patent eğitimi\, başvuruda dikkat edilmesi gereken konu başlıkları ile ilgili Erciyes Teknoloji Transfer Ofisi Fikri Haklar Birimi tarafından Patentle Türkiye yarışmasına ilişkin bilgilendirme toplantısı düzenlenecektir.Düzenlenecek toplantıya yüksek lisans ve doktora da dahil olmak üzere tüm öğrencilerimiz davetlidir. \nEtkinlik Bilgileri \nTarih : 10 Ekim 2019 Perşembe \nSaat : 14.00-16.00 \nYer : ERÜ Mühendislik Fak. C-Blok Konferans Salonu \nEğitmen : Mesut AKTEKİN (Fikri Haklar Uzmanı) \nEtkinlik Kayıt Linki : kisaltt.com/W9SJZ \n  \nSaygılarımızla
URL:https://erciyesteknopark.com/etkinlik/2-ulusal-universiteler-patent-yarismasi-tanitim-toplantisi/
ATTACH;FMTTYPE=image/jpeg:https://erciyesteknopark.com/wp-content/uploads/2021/11/2.Ulusal-Universiteler-Patent-Yarismasi-Tanitim-Toplantisi.jpg
END:VEVENT
END:VCALENDAR