BEGIN:VCALENDAR
VERSION:2.0
PRODID:-//Erciyes Teknopark - ECPv6.4.0.1//NONSGML v1.0//EN
CALSCALE:GREGORIAN
METHOD:PUBLISH
X-WR-CALNAME:Erciyes Teknopark
X-ORIGINAL-URL:https://erciyesteknopark.com
X-WR-CALDESC:Erciyes Teknopark için etkinlikler
REFRESH-INTERVAL;VALUE=DURATION:PT1H
X-Robots-Tag:noindex
X-PUBLISHED-TTL:PT1H
BEGIN:VTIMEZONE
TZID:Europe/Moscow
BEGIN:STANDARD
TZOFFSETFROM:+0300
TZOFFSETTO:+0300
TZNAME:MSK
DTSTART:20190101T000000
END:STANDARD
END:VTIMEZONE
BEGIN:VEVENT
DTSTART;VALUE=DATE:20191003
DTEND;VALUE=DATE:20191004
DTSTAMP:20260420T145935
CREATED:20191003T001732Z
LAST-MODIFIED:20211112T121418Z
UID:5664-1570060800-1570147199@erciyesteknopark.com
SUMMARY:Benim İşim Girişim Yarışması II.Dönem Final Jürisi ve Ödül Töreni
DESCRIPTION:Erciyes Teknopark ve Orta Anadolu Kalkınma Ajansı (ORAN) iş birliği ile düzenlenen “Benim İşim Girişim” yarışmasında sona gelindi. Benim İşim Girişim İş Fikri Yarışması Final Günü /Demo Day etkinliğinde jüri değerlendirmesi sonrasında en iyi üç takım seçiliyor. \nBenim İşim Girişim Yarışması II.Dönem Final Jürisi ve Ödül töreninde sizleri de aramızda görmekten onur duyarız. \n  \nTarih: 3 Ekim 2019 \nSaat: 09.30 \nYer: Erciyes Teknopark Tekno 5 Konferans Salonu \nProgram: \nAçılış Konuşmaları \nProje Sunumları \nIII.Dönem İmza Protokolü \nİlk 3 Ekibin Açıklanması \nKokteyl
URL:https://erciyesteknopark.com/etkinlik/benim-isim-girisim-yarismasi-ii-donem-final-jurisi-ve-odul-toreni/
ATTACH;FMTTYPE=image/jpeg:https://erciyesteknopark.com/wp-content/uploads/2021/11/Benim-Isim-Girisim-Yarismasi-II.Donem-Final-Jurisi-ve-Odul-Toreni-2019.jpg
END:VEVENT
END:VCALENDAR