BEGIN:VCALENDAR
VERSION:2.0
PRODID:-//Erciyes Teknopark - ECPv6.4.0.1//NONSGML v1.0//EN
CALSCALE:GREGORIAN
METHOD:PUBLISH
X-ORIGINAL-URL:https://erciyesteknopark.com
X-WR-CALDESC:Erciyes Teknopark için etkinlikler
REFRESH-INTERVAL;VALUE=DURATION:PT1H
X-Robots-Tag:noindex
X-PUBLISHED-TTL:PT1H
BEGIN:VTIMEZONE
TZID:Europe/Moscow
BEGIN:STANDARD
TZOFFSETFROM:+0300
TZOFFSETTO:+0300
TZNAME:MSK
DTSTART:20190101T000000
END:STANDARD
END:VTIMEZONE
BEGIN:VEVENT
DTSTART;VALUE=DATE:20190910
DTEND;VALUE=DATE:20190911
DTSTAMP:20260420T145958
CREATED:20190910T000959Z
LAST-MODIFIED:20211112T091121Z
UID:5656-1568073600-1568159999@erciyesteknopark.com
SUMMARY:Yazılım Firmaları İçin Dış Ticaret Eğitimi
DESCRIPTION:Değerli Erciyes Teknopark Firma Temsilcileri\, \nErciyes Teknopark Avrupa İşletmeler Ağı tarafından yazılım firmalarına yönelik dış ticaret eğitimi düzenlenecektir. Eğitime katılım ücretsiz olup\, başvurular herkese açıktır. \nEğitime katılım göstermek için başvuru yapmanız gerekmektedir. Eğitime başvurmak için tıklayınız. \nEğitim Detayları:\nTarih: 10 Eylül 2019\, Salı\nYer:   Erciyes Teknopark Tekno-5 Binası Konferans Salonu\nSaat: 09.00-16.00 \nEğitmen: Hakan Akın \nEğitimde işlenecek konu başlıkları aşağıdaki gibidir.\nYazılım İhracatı Yasal Uygulamalar\nİhracatta Ödeme Şekilleri\nİhracat Sözleşmeleri ve Belgeler\nDurum Analizi\nİhracat Hedef ve Stratejileri\nİhracat Sektör ve Müşteri Profili Belirleme\nHedef Pazar ve Müşteri Tespiti\nDestekler \nSaygılarımızla
URL:https://erciyesteknopark.com/etkinlik/yazilim-firmalari-icin-dis-ticaret-egitimi-09-19/
ATTACH;FMTTYPE=image/jpeg:https://erciyesteknopark.com/wp-content/uploads/2021/11/Yazilim-Firmalari-Icin-Dis-Ticaret-Egitimi-1.jpg
END:VEVENT
END:VCALENDAR