BEGIN:VCALENDAR
VERSION:2.0
PRODID:-//Erciyes Teknopark - ECPv6.4.0.1//NONSGML v1.0//EN
CALSCALE:GREGORIAN
METHOD:PUBLISH
X-ORIGINAL-URL:https://erciyesteknopark.com
X-WR-CALDESC:Erciyes Teknopark için etkinlikler
REFRESH-INTERVAL;VALUE=DURATION:PT1H
X-Robots-Tag:noindex
X-PUBLISHED-TTL:PT1H
BEGIN:VTIMEZONE
TZID:Europe/Moscow
BEGIN:STANDARD
TZOFFSETFROM:+0300
TZOFFSETTO:+0300
TZNAME:MSK
DTSTART:20190101T000000
END:STANDARD
END:VTIMEZONE
BEGIN:VEVENT
DTSTART;VALUE=DATE:20190703
DTEND;VALUE=DATE:20190704
DTSTAMP:20260420T064457
CREATED:20190702T235821Z
LAST-MODIFIED:20211112T120325Z
UID:5643-1562112000-1562198399@erciyesteknopark.com
SUMMARY:TÜBİTAK Çağrıları ve Teknoloji Hazırlık Seviyesi Bilgilendirme Toplantıları
DESCRIPTION:Değerli Araştırmacılar\, \nTÜBİTAK tarafından yayınlanacak olan Fen\, Mühendislik\, Sağlık Bilimleri alanlarındaki çağrıları ve bu çağrılarda belirtilen Teknoloji Hazırlık Seviyeleri tanımları ile ilgili bilgi günü düzenlenecektir. \nBilgi günü ile ilgili etkinlik tarihleri aşağıda belirtilmiş olup katılım için kayıt yaptırmanızı rica ederiz. \nEtkinlik kayıt linki: https://forms.gle/CvSgKZ6z9ZKVAduq5 \nEtkinlik Tarihleri: \n\n03 Temmuz 2019 – 14:0016:00\n08 Temmuz 2019 – 10:0012:00\n11 Temmuz 2019 – 16:0018:00\n16 Temmuz 2019 – 13:0015:00\n\n  \nİletişim: Ali İhsan YOĞURT \nihsan.yogurt@erciyesteknopark.com \n0 352 207 6666 – 68333 \n  \nSaygılarımızla
URL:https://erciyesteknopark.com/etkinlik/tubitak-cagrilari-ve-teknoloji-hazirlik-seviyesi-bilgilendirme-toplantilari/
ATTACH;FMTTYPE=image/jpeg:https://erciyesteknopark.com/wp-content/uploads/2021/11/TUBITAK-Cagrilari-ve-Teknoloji-Hazirlik-Seviyesi-Bilgilendirme-Toplantilari-scaled.jpg
END:VEVENT
END:VCALENDAR