BEGIN:VCALENDAR
VERSION:2.0
PRODID:-//Erciyes Teknopark - ECPv6.4.0.1//NONSGML v1.0//EN
CALSCALE:GREGORIAN
METHOD:PUBLISH
X-WR-CALNAME:Erciyes Teknopark
X-ORIGINAL-URL:https://erciyesteknopark.com
X-WR-CALDESC:Erciyes Teknopark için etkinlikler
REFRESH-INTERVAL;VALUE=DURATION:PT1H
X-Robots-Tag:noindex
X-PUBLISHED-TTL:PT1H
BEGIN:VTIMEZONE
TZID:Europe/Moscow
BEGIN:STANDARD
TZOFFSETFROM:+0300
TZOFFSETTO:+0300
TZNAME:MSK
DTSTART:20190101T000000
END:STANDARD
END:VTIMEZONE
BEGIN:VEVENT
DTSTART;VALUE=DATE:20190618
DTEND;VALUE=DATE:20190619
DTSTAMP:20260420T064415
CREATED:20190617T235648Z
LAST-MODIFIED:20211112T120152Z
UID:5640-1560816000-1560902399@erciyesteknopark.com
SUMMARY:HORIZON 2020 – SME INSTRUMENT EĞİTİMİ
DESCRIPTION:Değerli Araştırmacılar\,\nErciyes Teknopark Erciyes Teknoloji Transfer Ofisi tarafından “HORIZON 2020 – SME INSTRUMENT EĞİTİMİ” konulu etkinlik düzenlenecektir. \nEtkinliğe katılım için kayıt yapılması gerekmektedir. Kayıt linki: https://forms.gle/VmwPxjXeKBjypHbD7 \nAyrıca eğitime gelmeden önce katılımcıların projelerinin iyi bir şekilde değerlendirilebilmesi için aşağıdaki linkte yer alan formu doldurup gelmeleri önem arz etmektedir.\nhttps://drive.google.com/file/d/1Tmpqx8xy-HrTM2RcY3F9ngOJT52ku6Le/view?usp=sharing \nEtkinlik Detayları\nTarih: 18 Haziran 2019\nSaat: 09.30-17.30\nYer: Erciyes Teknopark Tekno 5 Binası Oksijen Toplantı Salonu\nKonuşmacı : Dr. Mustafa YAVUZ- Innvotek \nSaygılarımızla
URL:https://erciyesteknopark.com/etkinlik/horizon-2020-sme-instrument-egitimi/
ATTACH;FMTTYPE=image/jpeg:https://erciyesteknopark.com/wp-content/uploads/2021/11/horizon-scaled.jpg
END:VEVENT
END:VCALENDAR