BEGIN:VCALENDAR
VERSION:2.0
PRODID:-//Erciyes Teknopark - ECPv6.4.0.1//NONSGML v1.0//EN
CALSCALE:GREGORIAN
METHOD:PUBLISH
X-ORIGINAL-URL:https://erciyesteknopark.com
X-WR-CALDESC:Erciyes Teknopark için etkinlikler
REFRESH-INTERVAL;VALUE=DURATION:PT1H
X-Robots-Tag:noindex
X-PUBLISHED-TTL:PT1H
BEGIN:VTIMEZONE
TZID:Europe/Moscow
BEGIN:STANDARD
TZOFFSETFROM:+0300
TZOFFSETTO:+0300
TZNAME:MSK
DTSTART:20190101T000000
END:STANDARD
END:VTIMEZONE
BEGIN:VEVENT
DTSTART;VALUE=DATE:20190512
DTEND;VALUE=DATE:20190513
DTSTAMP:20260420T080011
CREATED:20211107T170035Z
LAST-MODIFIED:20211107T170035Z
UID:5703-1557619200-1557705599@erciyesteknopark.com
SUMMARY:Fikir Fabrikası Çok Uluslu Girişimcilik Programına Başvurular Başladı!
DESCRIPTION:Birleşmiş Milletler Kalkınma Programı (UNDP) tarafından organize edilen\, bu program ile teknoloji geliştirme ya da kullanımı içerikli ticari iş fikirlerine sahip girişimci adayları desteklenecektir. Girişimci adaylarının projelerini olgunlaştırmaları ve ilerletmeleri için ilk aşamada birbirinden değerli eğitimler verilecek olup\, akabinde başarılı olan takımlara SERA Kuluçka Merkezi’nde düzenlenecek kuluçka programına katılma hakkı verilecektir. Kuluçka programına katılan takımların iş fikirlerini hayata geçirmeleri için farklı destekler verilmesi de planlanmaktadır. \nKfW-Alman Kalkınma Bankası tarafından finanse edilen\, Erciyes Teknopark ve Başkent Üniversitesi tarafından yürütülen\, Fikir Fabrikası Programına Türk Vatandaşları ile geçici koruma altındaki Suriye Vatandaşları katılım gösterebilecektir. \nPrograma katılarak iş fikrinizi hayata geçirmek için sizde hızlıca başvurunuzu yapın. \n  \nKİMLER BAŞVURABİLİR \n\n18 yaşından büyük\nGeçici koruma altında olan Suriyeliler\nTürkiye Cumhuriyeti vatandaşları\nProgram süresince devamlı katılım sağlayabilecek olan kişiler\nTeknoloji tabanlı iş fikri olan ya da teknoloji içerikli girişimcilik potansiyeli olan kişiler\n\nSon Başvuru Tarihi: 05 Aralık 2019\nBaşvuru Linki: http://team.seraincubation.com/basvurular/yeni?form_id=6bd2bb04928a4b9c165e59e52ed6b081\nDetaylı Bilgi : http://www.fikirfabrikasi.org/\n  \n 
URL:https://erciyesteknopark.com/etkinlik/fikir-fabrikasi-cok-uluslu-girisimcilik-programina-basvurular-basladi-2/
ATTACH;FMTTYPE=image/jpeg:https://erciyesteknopark.com/wp-content/uploads/2021/11/Fikir-Fabrikasi-Cok-Uluslu-Girisimcilik-Programi.jpg
END:VEVENT
END:VCALENDAR