BEGIN:VCALENDAR
VERSION:2.0
PRODID:-//Erciyes Teknopark - ECPv6.4.0.1//NONSGML v1.0//EN
CALSCALE:GREGORIAN
METHOD:PUBLISH
X-ORIGINAL-URL:https://erciyesteknopark.com
X-WR-CALDESC:Erciyes Teknopark için etkinlikler
REFRESH-INTERVAL;VALUE=DURATION:PT1H
X-Robots-Tag:noindex
X-PUBLISHED-TTL:PT1H
BEGIN:VTIMEZONE
TZID:Europe/Moscow
BEGIN:STANDARD
TZOFFSETFROM:+0300
TZOFFSETTO:+0300
TZNAME:MSK
DTSTART:20190101T000000
END:STANDARD
END:VTIMEZONE
BEGIN:VEVENT
DTSTART;VALUE=DATE:20190502
DTEND;VALUE=DATE:20190503
DTSTAMP:20260420T080017
CREATED:20190501T235302Z
LAST-MODIFIED:20211112T115244Z
UID:5634-1556755200-1556841599@erciyesteknopark.com
SUMMARY:Yazılım Test Mühendisliği Sertifika Programı
DESCRIPTION:Erciyes Teknopark ve Kuveyt Türk Bankası iş birliği ile sizler için “Yazılım Test Mühendisliği Sertifika Programı” düzenlenecektir. Sertifika programında genel olarak uluslararası kabul görmüş olan ISTQB Foundation yöntemi işlenecektir. \nSiz değerli teknopark firmalarına yönelik düzenlediğimiz bu sertifika programına katılımınızdan memnuniyet duyarız. \nPrograma katılanlara sertifika verilecek olup\, etkinlik detayları aşağıda bilgilerinize sunulmuştur. \nSaygılarımızla \nEğitmen: Abdurrahman AKIN (Test Servisi Yöneticisi\, Kuveyt Türk)\nTarih: 02 Mayıs 2019\, Perşembe\, 10.00-16.00 \n03 Mayıs 2019\, Cuma\, 10.00-17.00 \nYer: Erciyes Teknopark Tekno 5 Konferans Salonu\nKayıt: https://forms.gle/iUChgMErez9kQeSt6
URL:https://erciyesteknopark.com/etkinlik/yazilim-test-muhendisligi-sertifika-programi/
ATTACH;FMTTYPE=image/jpeg:https://erciyesteknopark.com/wp-content/uploads/2021/11/Yazilim-Test-Muhendisligi-Sertifika-Programi-scaled.jpg
END:VEVENT
END:VCALENDAR