BEGIN:VCALENDAR
VERSION:2.0
PRODID:-//Erciyes Teknopark - ECPv6.4.0.1//NONSGML v1.0//EN
CALSCALE:GREGORIAN
METHOD:PUBLISH
X-WR-CALNAME:Erciyes Teknopark
X-ORIGINAL-URL:https://erciyesteknopark.com
X-WR-CALDESC:Erciyes Teknopark için etkinlikler
REFRESH-INTERVAL;VALUE=DURATION:PT1H
X-Robots-Tag:noindex
X-PUBLISHED-TTL:PT1H
BEGIN:VTIMEZONE
TZID:Europe/Moscow
BEGIN:STANDARD
TZOFFSETFROM:+0300
TZOFFSETTO:+0300
TZNAME:MSK
DTSTART:20190101T000000
END:STANDARD
END:VTIMEZONE
BEGIN:VEVENT
DTSTART;VALUE=DATE:20190419
DTEND;VALUE=DATE:20190420
DTSTAMP:20260421T001331
CREATED:20190418T234927Z
LAST-MODIFIED:20211112T114558Z
UID:5628-1555632000-1555718399@erciyesteknopark.com
SUMMARY:ERBAN INVEST DAY
DESCRIPTION:Değerli Araştırmacılarımız\,\nAraştırmacılarla yatırımcıların bir araya geleceği ERBAN Invest Day’e katılımınızdan memnuniyet duyarız.\nEtkinliğe kayıt olmanızı rica ederiz.\nEtkinlik Kayıt Linki:  \nTarih: 19 Nisan Cuma Saat 14.00 – 17.00\nYer: Teknopark 5 Binası Sera Kuluçka Merkezi\nİletişim: Mehmet Yağcıoğlu\,mehmet.y@erciyesteknopark.com\,0352 224 81 12 / 336 \nSaygılarımızla
URL:https://erciyesteknopark.com/etkinlik/erban-invest-day-2019/
ATTACH;FMTTYPE=image/jpeg:https://erciyesteknopark.com/wp-content/uploads/2021/11/ERBAN-INVEST-DAY-2019-scaled.jpg
END:VEVENT
END:VCALENDAR