BEGIN:VCALENDAR
VERSION:2.0
PRODID:-//Erciyes Teknopark - ECPv6.4.0.1//NONSGML v1.0//EN
CALSCALE:GREGORIAN
METHOD:PUBLISH
X-WR-CALNAME:Erciyes Teknopark
X-ORIGINAL-URL:https://erciyesteknopark.com
X-WR-CALDESC:Erciyes Teknopark için etkinlikler
REFRESH-INTERVAL;VALUE=DURATION:PT1H
X-Robots-Tag:noindex
X-PUBLISHED-TTL:PT1H
BEGIN:VTIMEZONE
TZID:Europe/Moscow
BEGIN:STANDARD
TZOFFSETFROM:+0300
TZOFFSETTO:+0300
TZNAME:MSK
DTSTART:20190101T000000
END:STANDARD
END:VTIMEZONE
BEGIN:VEVENT
DTSTART;VALUE=DATE:20190329
DTEND;VALUE=DATE:20190330
DTSTAMP:20260421T223550
CREATED:20190328T230633Z
LAST-MODIFIED:20211112T072541Z
UID:5583-1553817600-1553903999@erciyesteknopark.com
SUMMARY:We would like to invite you to be a researcher at Erciyes University
DESCRIPTION:Apply for Outstanding Researchers Programme in Turkey \nThe Scientific and Technological Research Council of Turkey (TÜBİTAK) The International Fellowship for Outstanding Researchers Program (2232) aims to support qualified researchers with leading scientific and/or technological achievements and international work experience to conduct their research in leading university\, industrial or public institutions to contribute in areas that are strategic value to Turkey. \n  \n\n\n\n\nLump sum (in Turkish Lira)\n\n\nInitial Research Grant\nEarly Stage Researchers: Up to 500.000\n\n\n\nExperienced Researchers: Up to 1.000.000\n\n\nResearch Grant\nUp to 720.000\n\n\nTravel allowance for the project leader and his/her family\nCost of flight tickets for arrivals\n\n\n\n  \n  \n\n\n\n\nPer month (in Turkish Lira)\n\n\nScholarship for Project Leader\nEarly Stage Researchers: 20.000\n\n\n\nExperienced Researchers: 24.000\n\n\nFamily Allowance for the Project Leader\n2.250\n\n\nScholarship for Establishing Research Team (for expenses\nEach Student 4.500\n\n\nrelated up to 5 PhD student scholarship)\n\n\n\nOverhead for Host Institution\n3.750\n\n\nProject incentive bonus for Researchers\n750\n\n\nHealth insurance for the project leader and his/her family\nPer person 100\n\n\n\nApplication Deadline: 15/02/2019 \nThe duration of the fellowship is to be between 24 to 36 months. \nThe project leader is allowed to spend up to 3 months per year abroad as a means of facilitating the transfer of knowledge from their previous institution \n  \nAm I Eligible? \nFor more info \nhttps://goo.gl/NE8h3D \nhttps://www.tubitak.gov.tr/sites/default/files/2204/2232_english.pdf \netto@erciyes.edu.tr \n 
URL:https://erciyesteknopark.com/etkinlik/we-would-like-to-invite-you-to-be-a-researcher-at-erciyes-university/
ATTACH;FMTTYPE=image/jpeg:https://erciyesteknopark.com/wp-content/uploads/2021/11/We-would-like-to-invite-you-to-be-a-researcher-at-Erciyes-University-scaled.jpg
END:VEVENT
BEGIN:VEVENT
DTSTART;VALUE=DATE:20190329
DTEND;VALUE=DATE:20190330
DTSTAMP:20260421T223550
CREATED:20190328T233416Z
LAST-MODIFIED:20211112T090222Z
UID:5607-1553817600-1553903999@erciyesteknopark.com
SUMMARY:FİDAN DİKİM ŞENLİĞİ
DESCRIPTION:Değerli Erciyes Teknopark Firma Temsilcileri\, \n21-26 Mart Orman Haftası’nda “Yeşili Sev Doğayı Koru” bilinciyle 29 Mart 2019 Cuma günü\, saat 14.00’da Erciyes Teknopark’ta 3.Fidan Dikim Şenliği düzenlenecektir. \nTeknoloji Geliştirme Bölgemizde sizin de dikili bir fidanınız olsun istiyorsanız fidanlarınızı (Amerikan sarmaşığı\, berberis\, gül\, hanımeli ve ligustrum) alıp şenliğimize katılmaya davet ediyoruz. \nFidan dikimi öncesinde bahçemizde sizler için sucuk ekmek ikramımız olacaktır. \nErciyes Teknopark ailesi olarak fidanlarımızın toprakla buluşacağı bu etkinlikte tüm firmalarımızı aramızda görmekten büyük mutluluk duyacağız. \nSaygılarımızla
URL:https://erciyesteknopark.com/etkinlik/fidan-dikim-senligi/
ATTACH;FMTTYPE=image/jpeg:https://erciyesteknopark.com/wp-content/uploads/2021/11/FIDAN-DIKIM-SENLIGI.jpg
END:VEVENT
END:VCALENDAR