BEGIN:VCALENDAR
VERSION:2.0
PRODID:-//Erciyes Teknopark - ECPv6.4.0.1//NONSGML v1.0//EN
CALSCALE:GREGORIAN
METHOD:PUBLISH
X-ORIGINAL-URL:https://erciyesteknopark.com
X-WR-CALDESC:Erciyes Teknopark için etkinlikler
REFRESH-INTERVAL;VALUE=DURATION:PT1H
X-Robots-Tag:noindex
X-PUBLISHED-TTL:PT1H
BEGIN:VTIMEZONE
TZID:Europe/Moscow
BEGIN:STANDARD
TZOFFSETFROM:+0300
TZOFFSETTO:+0300
TZNAME:MSK
DTSTART:20190101T000000
END:STANDARD
END:VTIMEZONE
BEGIN:VEVENT
DTSTART;VALUE=DATE:20190311
DTEND;VALUE=DATE:20190312
DTSTAMP:20260420T110839
CREATED:20211106T233609Z
LAST-MODIFIED:20211106T233609Z
UID:5610-1552262400-1552348799@erciyesteknopark.com
SUMMARY:Disiplinler Arası Proje Toplantıları
DESCRIPTION:Değerli Araştırmacılar; \nErciyes Teknoloji Transfer Ofisi tarafından Mart-Nisan ayları içerisinde 13 konu başlığı ile ilgili araştırmacılarımız arasında iletişim ve çalışma işbirliklerinin artması amacıyla disiplinler arası tanışma ve proje fonları hakkında bilgilendirme toplantıları organize edilmiştir. Etkinlik tarihleri  belirlenmiş olup ekteki afişte bilgilerinize sunulmuştur. \nDetaylı bilgi : 207 6666- 68333 – ihsan.yogurt@erciyesteknopark.com \nSaygılarımızla
URL:https://erciyesteknopark.com/etkinlik/disiplinler-arasi-proje-toplantilari-2/
ATTACH;FMTTYPE=image/jpeg:https://erciyesteknopark.com/wp-content/uploads/2021/11/Disiplinler-Arasi-Proje-Toplantilari-1-scaled.jpg
END:VEVENT
END:VCALENDAR