BEGIN:VCALENDAR
VERSION:2.0
PRODID:-//Erciyes Teknopark - ECPv6.4.0.1//NONSGML v1.0//EN
CALSCALE:GREGORIAN
METHOD:PUBLISH
X-WR-CALNAME:Erciyes Teknopark
X-ORIGINAL-URL:https://erciyesteknopark.com
X-WR-CALDESC:Erciyes Teknopark için etkinlikler
REFRESH-INTERVAL;VALUE=DURATION:PT1H
X-Robots-Tag:noindex
X-PUBLISHED-TTL:PT1H
BEGIN:VTIMEZONE
TZID:Europe/Moscow
BEGIN:STANDARD
TZOFFSETFROM:+0300
TZOFFSETTO:+0300
TZNAME:MSK
DTSTART:20190101T000000
END:STANDARD
END:VTIMEZONE
BEGIN:VEVENT
DTSTART;VALUE=DATE:20190308
DTEND;VALUE=DATE:20190309
DTSTAMP:20260421T001336
CREATED:20190308T085023Z
LAST-MODIFIED:20211112T085117Z
UID:5839-1552003200-1552089599@erciyesteknopark.com
SUMMARY:Disiplinler Arası Proje Toplantıları
DESCRIPTION:Değerli Araştırmacılar; \nÜniversitemiz Teknoloji Transfer Ofisi tarafından Mart-Nisan ayları içerisinde aşağıda belirtilen 13 konu başlığı ile ilgili araştırmacılarımız arasında iletişim ve çalışma işbirliklerinin artması amacıyla disiplinler arası tanışma ve proje fonları hakkında bilgilendirme toplantıları organize edilecektir. Etkinliklere ön kayıt yapmak isteyen araştırmacıların çalışma alanlarının uyumlu olduğu programa kayıt yaptırmaları rica olunur. \n  \nSon başvuru tarihi: 08 Mart 2019 Saat:18:00’dır. \nKayıt linki : https://goo.gl/S3zKgP \nDetaylı bilgi : 207 6666- 68333 – ihsan.yogurt@erciyesteknopark.com \nBELİRLENMİŞ ALANLAR: \n\nTemel eczacılık ürünlerinin ve eczacılığa ilişkin malzemelerin imalatı\n\nEczacılık ürünleri geliştirilmesi\nİlaç geliştirilmesi\nAşı geliştirilmesi\nTıbbi cihaz\, biyo-yazıcı\, tıbbi görüntüleme cihazları ve malzeme geliştirilmesi\nCerrahi aletlerin geliştirilmesi\nHayvan sağlığına ilişkin ilaçlar ve aşılar\nBiyoteknolojik ilaçlar ve aşılar\nDoku ve yapay organ geliştirilmesi\nBiyo-Enformatik\nİlaç ekonomisi\n\n\nBilgisayar\, elektronik ve optik ürünlerin geliştirilmesi\n\nDiyot\, transistör\, led vb. yarı iletken elektronik bileşenlerin imalatı\nElektronik kart imalatı\nİletişim ekipmanları geliştirilmesi\nAnten geliştirilmesi\nSensör geliştirilmesi\nÖlçü aletleri geliştirilmesi\nOptik cihaz geliştirilmesi\nFiber teknolojileri\nEkran teknolojileri\nDonanım teknolojileri\nBilgisayar ara yüz yazılımları\n\n\nHava ve kara ulaşım araçları geliştirilmesi\n\nHava ve uzay taşıtları geliştirilmesi\nDrone\, helikopter\, uçak\, sıcak hava balonu geliştirilmesi\nMotorlu kara taşıtları geliştirilmesi\nElektrikli kara taşıtları geliştirilmesi\n\n\n\n\nSinema\, TV\, Animasyon\, Grafik\, Görsel İletişim programlarının geliştirilmesi\n\nAnimasyon film geliştirilmesi\nVR ve AR sistemlerin geliştirilmesi\nSu altı çekim sistemleri geliştirilmesi\nFilm\, video ve TV programları çekim sonrası yazılımlar\nFilm kayıt sistemlerinin ve ortamlarının geliştirilmesi\nMüzik kayıt ve yayıncılık süreçleri geliştirilmesi\n\n\n\n  \n\nYazılım Geliştirme\n\nYazılım geliştirme\nFelaketten kurtarma ve veri kurtarma sistemleri geliştirme\nVeri güvenliği ve siber güvenlik\nKriptoloji ve Quantum Sistemler\nYerli işletim sistemi\nYapay Zekâ\nDerin Öğrenme\nBüyük Veri\nBulut\n\n\n\n\nTarımsal ve Veteriner Araştırmalar\n\nYerli tohum geliştirilmesi\nGübre geliştirilmesi\nTopraksız tarım\nHassas tarım\nTarım ve ormancılık makineleri\nGıda güvenliği\nRobotik tarım\nTest ve Analiz cihazlarının geliştirilmesi\nYenilikçi test ve analiz yöntemleri\nSağlıklı üretim ve Toplum sağlığı\nYerli hayvan ırkları\nTarım ekonomisi\n\n\n\n\nKimyasal Ürün Geliştirme\n\nSanayi gazları\, boya maddeleri\, karbonat imalatı\nCevher zenginleştirme\nOrganik kimyasalların geliştirilmesi\nGübre ve azot bileşikleri geliştirilmesi\nHaşere ilaçları ve zirai ürünler geliştirilmesi\nMürekkep geliştirilmesi\nTemizlik maddesi geliştirilmesi\nKozmetik madde geliştirilmesi\nJelatin geliştirilmesi\nSu arıtma sistemleri geliştirilmesi\n\n\n\n\nEnerji\n\nGüneş enerjisi\nRüzgar enerjisi\nNükleer enerji\nHidrojen enerjisi\nJeotermal enerji\nBiyo-yakıtlar\nPil ve Akü sistemleri\nEnerji ekonomisi ve ucuz enerji\nAkıllı enerji yönetim sistemleri\n\n\n\n\nNitelikli Eğitim\n\nHer yerde eğitim\nTeknoloji tabanlı eğitim\nEğitimde fırsat eşitliği\nMesleki eğitim\nEğitimde yenilikçi yaklaşımlar\nEğitmenlerin eğitimi\nÖzel eğitim\n\n\n\n\nToplumsal Cinsiyet ve Aile Çalışmaları\n\nAyrımcılık\nAile içi şiddet\nEvlenme/Boşanma\nEğitim\nEkonomik eşitlik\nToplumsal cinsiyet edebiyatı\nİş hayatında kadın\nToplumsal İletişim\n\n\n\n\nSürdürülebilir Şehir ve Yaşam Alanları\n\nKentsel dönüşüm\nAkıllı şehircilik\nŞehir ve sosyal yaşam\nMimaride kentsel kimlik\nGüvenli şehirler\nGüvenli ve hızlı ulaşım\nKentsel planlama\nKültürel miras\n\n\n\n\nGöç\n\nGöçmen Rehabilitasyonu\nGöçmen Ayrımcılığı\nGöçmen Eğitimi\nGöçmen Ekonomisi\nGöç Sosyolojisi\nGöç Edebiyatı\n\n\n\n\nSorunlu Üretim ve Tüketim\n\nAtık yönetimi\nTemiz su\nTemiz hava\nİsraf ekonomisi\nEkolojik ayak izi\nBilinçli tarım\nDoğal kaynak yönetimi\nTedarik zinciri\nGıda güvenliği\nVerimli üretim\nEnerji ekonomisi
URL:https://erciyesteknopark.com/etkinlik/disiplinler-arasi-proje-toplantilari-2019/
END:VEVENT
BEGIN:VEVENT
DTSTART;VALUE=DATE:20190308
DTEND;VALUE=DATE:20190309
DTSTAMP:20260421T001336
CREATED:20211106T231805Z
LAST-MODIFIED:20211106T231805Z
UID:5595-1552003200-1552089599@erciyesteknopark.com
SUMMARY:Disiplinler Arası Proje Toplantıları
DESCRIPTION:Değerli Araştırmacılar; \nÜniversitemiz Teknoloji Transfer Ofisi tarafından Mart-Nisan ayları içerisinde aşağıda belirtilen 13 konu başlığı ile ilgili araştırmacılarımız arasında iletişim ve çalışma işbirliklerinin artması amacıyla disiplinler arası tanışma ve proje fonları hakkında bilgilendirme toplantıları organize edilecektir. Etkinliklere ön kayıt yapmak isteyen araştırmacıların çalışma alanlarının uyumlu olduğu programa kayıt yaptırmaları rica olunur. \n  \nSon başvuru tarihi: 08 Mart 2019 Saat:18:00’dır. \nKayıt linki : https://goo.gl/S3zKgP \nDetaylı bilgi : 207 6666- 68333 – ihsan.yogurt@erciyesteknopark.com \nBELİRLENMİŞ ALANLAR: \n\nTemel eczacılık ürünlerinin ve eczacılığa ilişkin malzemelerin imalatı\n\nEczacılık ürünleri geliştirilmesi\nİlaç geliştirilmesi\nAşı geliştirilmesi\nTıbbi cihaz\, biyo-yazıcı\, tıbbi görüntüleme cihazları ve malzeme geliştirilmesi\nCerrahi aletlerin geliştirilmesi\nHayvan sağlığına ilişkin ilaçlar ve aşılar\nBiyoteknolojik ilaçlar ve aşılar\nDoku ve yapay organ geliştirilmesi\nBiyo-Enformatik\nİlaç ekonomisi\n\n\nBilgisayar\, elektronik ve optik ürünlerin geliştirilmesi\n\nDiyot\, transistör\, led vb. yarı iletken elektronik bileşenlerin imalatı\nElektronik kart imalatı\nİletişim ekipmanları geliştirilmesi\nAnten geliştirilmesi\nSensör geliştirilmesi\nÖlçü aletleri geliştirilmesi\nOptik cihaz geliştirilmesi\nFiber teknolojileri\nEkran teknolojileri\nDonanım teknolojileri\nBilgisayar ara yüz yazılımları\n\n\nHava ve kara ulaşım araçları geliştirilmesi\n\nHava ve uzay taşıtları geliştirilmesi\nDrone\, helikopter\, uçak\, sıcak hava balonu geliştirilmesi\nMotorlu kara taşıtları geliştirilmesi\nElektrikli kara taşıtları geliştirilmesi\n\n\n\n\nSinema\, TV\, Animasyon\, Grafik\, Görsel İletişim programlarının geliştirilmesi\n\nAnimasyon film geliştirilmesi\nVR ve AR sistemlerin geliştirilmesi\nSu altı çekim sistemleri geliştirilmesi\nFilm\, video ve TV programları çekim sonrası yazılımlar\nFilm kayıt sistemlerinin ve ortamlarının geliştirilmesi\nMüzik kayıt ve yayıncılık süreçleri geliştirilmesi\n\n\n\n  \n\nYazılım Geliştirme\n\nYazılım geliştirme\nFelaketten kurtarma ve veri kurtarma sistemleri geliştirme\nVeri güvenliği ve siber güvenlik\nKriptoloji ve Quantum Sistemler\nYerli işletim sistemi\nYapay Zekâ\nDerin Öğrenme\nBüyük Veri\nBulut\n\n\n\n\nTarımsal ve Veteriner Araştırmalar\n\nYerli tohum geliştirilmesi\nGübre geliştirilmesi\nTopraksız tarım\nHassas tarım\nTarım ve ormancılık makineleri\nGıda güvenliği\nRobotik tarım\nTest ve Analiz cihazlarının geliştirilmesi\nYenilikçi test ve analiz yöntemleri\nSağlıklı üretim ve Toplum sağlığı\nYerli hayvan ırkları\nTarım ekonomisi\n\n\n\n\nKimyasal Ürün Geliştirme\n\nSanayi gazları\, boya maddeleri\, karbonat imalatı\nCevher zenginleştirme\nOrganik kimyasalların geliştirilmesi\nGübre ve azot bileşikleri geliştirilmesi\nHaşere ilaçları ve zirai ürünler geliştirilmesi\nMürekkep geliştirilmesi\nTemizlik maddesi geliştirilmesi\nKozmetik madde geliştirilmesi\nJelatin geliştirilmesi\nSu arıtma sistemleri geliştirilmesi\n\n\n\n\nEnerji\n\nGüneş enerjisi\nRüzgar enerjisi\nNükleer enerji\nHidrojen enerjisi\nJeotermal enerji\nBiyo-yakıtlar\nPil ve Akü sistemleri\nEnerji ekonomisi ve ucuz enerji\nAkıllı enerji yönetim sistemleri\n\n\n\n\nNitelikli Eğitim\n\nHer yerde eğitim\nTeknoloji tabanlı eğitim\nEğitimde fırsat eşitliği\nMesleki eğitim\nEğitimde yenilikçi yaklaşımlar\nEğitmenlerin eğitimi\nÖzel eğitim\n\n\n\n\nToplumsal Cinsiyet ve Aile Çalışmaları\n\nAyrımcılık\nAile içi şiddet\nEvlenme/Boşanma\nEğitim\nEkonomik eşitlik\nToplumsal cinsiyet edebiyatı\nİş hayatında kadın\nToplumsal İletişim\n\n\n\n\nSürdürülebilir Şehir ve Yaşam Alanları\n\nKentsel dönüşüm\nAkıllı şehircilik\nŞehir ve sosyal yaşam\nMimaride kentsel kimlik\nGüvenli şehirler\nGüvenli ve hızlı ulaşım\nKentsel planlama\nKültürel miras\n\n\n\n\nGöç\n\nGöçmen Rehabilitasyonu\nGöçmen Ayrımcılığı\nGöçmen Eğitimi\nGöçmen Ekonomisi\nGöç Sosyolojisi\nGöç Edebiyatı\n\n\n\n\nSorunlu Üretim ve Tüketim\n\nAtık yönetimi\nTemiz su\nTemiz hava\nİsraf ekonomisi\nEkolojik ayak izi\nBilinçli tarım\nDoğal kaynak yönetimi\nTedarik zinciri\nGıda güvenliği\nVerimli üretim\nEnerji ekonomisi\n\n\n\n 
URL:https://erciyesteknopark.com/etkinlik/disiplinler-arasi-proje-toplantilari/
ATTACH;FMTTYPE=image/jpeg:https://erciyesteknopark.com/wp-content/uploads/2021/11/Disiplinler-Arasi-Proje-Toplantilari-scaled.jpg
END:VEVENT
END:VCALENDAR