BEGIN:VCALENDAR
VERSION:2.0
PRODID:-//Erciyes Teknopark - ECPv6.4.0.1//NONSGML v1.0//EN
CALSCALE:GREGORIAN
METHOD:PUBLISH
X-ORIGINAL-URL:https://erciyesteknopark.com
X-WR-CALDESC:Erciyes Teknopark için etkinlikler
REFRESH-INTERVAL;VALUE=DURATION:PT1H
X-Robots-Tag:noindex
X-PUBLISHED-TTL:PT1H
BEGIN:VTIMEZONE
TZID:Europe/Moscow
BEGIN:STANDARD
TZOFFSETFROM:+0300
TZOFFSETTO:+0300
TZNAME:MSK
DTSTART:20180101T000000
END:STANDARD
END:VTIMEZONE
BEGIN:VEVENT
DTSTART;TZID=Europe/Moscow:20180924T080000
DTEND;TZID=Europe/Moscow:20181212T170000
DTSTAMP:20260422T030656
CREATED:20181023T215036Z
LAST-MODIFIED:20211108T142307Z
UID:5523-1537776000-1544634000@erciyesteknopark.com
SUMMARY:PreSera Girişimcilik Kampı Başlıyor!-1
DESCRIPTION:PreSera Girişimcilik Kampı ile amaç; girişimci adaylarının teknoloji tabanlı girişimciliğe ilk adımlarını atmalarını sağlamak\, iş fikri üretirken nelere dikkat etmek gerekli\, bir iş fikri nasıl doğrulanır\, müşteri görüşmeleri nasıl yapılmalıdır gibi sorulara cevap bulmaktır. \nBir haftalık süreç boyunca düzenlenecek eğitimler\, gerçekleştirilecek beyin fırtınası etkinlikleri ile girişimci adaylarının\, yalın girişimcilik ve teknoloji tabanlı doğrulanmış iş fikri üretme konusunda bilgi edinmeleri hedeflenmektedir. \nPreSera Kampı sonunda başarılı olan ekipler\, Sera prototip aşamasına öncelikli katılım hakkı elde edeceklerdir.\nTamamen ücretsiz olan girişimcilik kampı başvuruları herkese açık olup\, kontenjan sınırlıdır. \nKamp tarihleri; 24-28 Eylül\, 1-5 Ekim ve 8-12 Ekim günleri arasındadır. ( Not: Her bir kamp birbirinin tekrarı olup lütfen size uygun tarihte olan kampı seçiniz)\nBaşvuru için: www.seraincubation.com
URL:https://erciyesteknopark.com/etkinlik/presera-girisimcilik-kampi-basliyor/
ATTACH;FMTTYPE=image/jpeg:https://erciyesteknopark.com/wp-content/uploads/2021/11/presera2018.jpg
END:VEVENT
END:VCALENDAR